BEGIN:VCALENDAR
VERSION:2.0
PRODID:-//wp-events-plugin.com//7.2.3.1//EN
BEGIN:VEVENT
UID:547@frauenbildungszentrum.de
DTSTART;TZID=Europe/Berlin:20240805T194500
DTEND;TZID=Europe/Berlin:20240819T210000
DTSTAMP:20240718T073226Z
URL:https://www.frauenbildungszentrum.de/events/qigong-fuer-den-ruecken-4
SUMMARY:Qigong für den Rücken 4 (Anmeldung nur noch auf Warteliste mögli
 ch)
DESCRIPTION:Qigong Übungen entspannen zum einen Körper und Geist und zum 
 anderen aktivieren und kräftigen sie. Zur Vorbereitung werden Übungen zu
 r aktiven Dehnung der Sehnen und der verspannten Muskulatur von Rücken\, 
 Schulter und Nacken im Sitzen oder Liegen praktiziert. Die sofort spürbar
 e neu gewonnene Beweglichkeit und Elastizität wird in ausgewählten Qigon
 g Übungen vertieft.\nDas Zusammenspiel von meditativer fließender Bewegu
 ng und Atmung sowie bildhafter Vorstellung aus der Natur beugt Rückenbesc
 hwerden vor und lässt Sie aufrecht und entspannt durch den Alltag gehen.\
 nBitte bringen Sie bequeme Kleidung\, warme Socken oder Gymnastikschuhe so
 wie eine leichte Decke oder ein großes Tuch mit.\n\n&nbsp\;\n\n&nbsp\;\nL
 eitung: Claudia Friederichs\n3x Mo.\, 05.08. – 19.08.2024\nMontags 19.45
  – 21.00 Uhr\n241-05-510
CATEGORIES:August,Gesundheit &amp; Selbsterfahrung,Sport &amp; Bewegung
LOCATION:Frauenbildungszentrum\, Schöne Aussicht 24 \, Bad Homburg\, Hesse
 n\, 61348  \, Deutschland
X-APPLE-STRUCTURED-LOCATION;VALUE=URI;X-ADDRESS=Schöne Aussicht 24 \, Bad 
 Homburg\, Hessen\, 61348  \, Deutschland;X-APPLE-RADIUS=100;X-TITLE=Frauen
 bildungszentrum:geo:0,0
END:VEVENT
BEGIN:VTIMEZONE
TZID:Europe/Berlin
X-LIC-LOCATION:Europe/Berlin
BEGIN:DAYLIGHT
DTSTART:20240331T030000
TZOFFSETFROM:+0100
TZOFFSETTO:+0200
TZNAME:CEST
END:DAYLIGHT
END:VTIMEZONE
END:VCALENDAR