BEGIN:VCALENDAR
VERSION:2.0
PRODID:-//wp-events-plugin.com//7.2.3.1//EN
BEGIN:VEVENT
UID:807@frauenbildungszentrum.de
DTSTART;TZID=Europe/Berlin:20250728T194500
DTEND;TZID=Europe/Berlin:20250811T210000
DTSTAMP:20250528T114819Z
URL:https://www.frauenbildungszentrum.de/events/qigong-fuer-den-ruecken-3-
 2
SUMMARY:Qigong für den Rücken Sommerkurs
DESCRIPTION:Qigong Übungen entspannen zum einen Körper und Geist und zum 
 anderen aktivieren und kräftigen sie. Zur Vorbereitung werden Übungen zu
 r aktiven Dehnung der Sehnen und der verspannten Muskulatur von Rücken\, 
 Schulter und Nacken im Sitzen oder Liegen praktiziert. Die sofort spürbar
 e neu gewonnene Beweglichkeit und Elastizität wird in ausgewählten Qigon
 g Übungen vertieft.\nDas Zusammenspiel von meditativer fließender Bewegu
 ng und Atmung sowie bildhafter Vorstellung aus der Natur beugt Rückenbesc
 hwerden vor und lässt Sie aufrecht und entspannt durch den Alltag gehen.\
 nBitte bringen Sie bequeme Kleidung\, warme Socken oder Gymnastikschuhe so
 wie eine leichte Decke oder ein großes Tuch mit.\n\n&nbsp\;\nLeitung: Cla
 udia Friederichs\n3 x Mo.\, 28.07. – 11.08.2025\n\n19:45 - 21:00 Uhr\n25
 1-05-513
CATEGORIES:Gesundheit &amp; Selbsterfahrung,Juli,Sport &amp; Bewegung
LOCATION:Frauenbildungszentrum\, Schöne Aussicht 24 \, Bad Homburg\, Hesse
 n\, 61348  \, Deutschland
X-APPLE-STRUCTURED-LOCATION;VALUE=URI;X-ADDRESS=Schöne Aussicht 24 \, Bad 
 Homburg\, Hessen\, 61348  \, Deutschland;X-APPLE-RADIUS=100;X-TITLE=Frauen
 bildungszentrum:geo:0,0
END:VEVENT
BEGIN:VTIMEZONE
TZID:Europe/Berlin
X-LIC-LOCATION:Europe/Berlin
BEGIN:DAYLIGHT
DTSTART:20250330T030000
TZOFFSETFROM:+0100
TZOFFSETTO:+0200
TZNAME:CEST
END:DAYLIGHT
END:VTIMEZONE
END:VCALENDAR