BEGIN:VCALENDAR
VERSION:2.0
PRODID:-//wp-events-plugin.com//7.2.3.1//EN
BEGIN:VEVENT
UID:548@frauenbildungszentrum.de
DTSTART;TZID=Europe/Berlin:20240716T183000
DTEND;TZID=Europe/Berlin:20240813T200000
DTSTAMP:20240701T091402Z
URL:https://www.frauenbildungszentrum.de/events/qigong-dienstags
SUMMARY:Qigong (Dienstags)
DESCRIPTION:Qi = Lebensenergie/ Lebenskraft\; Gong = Arbeit/ Übung. Bei di
 esen Entspannungs- und Konzentrationsübungen liegt der Schwerpunkt auf de
 m harmonischen Zusammenspiel von körperlicher Aktivität\, Atmung und Ge
 ist. Regelmäßig ausgeübt führen diese Bewegungen zu nachhaltigem körp
 erlichen und geistigen Wohlbefinden.\nIn diesem Kurs sind entspannende und
  den Körper dehnende Bodenübungen und Elemente aus dem Taiji integriert.
  Bitte bringen Sie bequeme Sportkleidung\, warme Socken und eine Gymnastik
 matte oder Wolldecke mit.\nLeitung: Wilma Gilb\n5x Di.\, 16.07. – 13.08.
 2024\n\n18.30 – 20.00 Uhr\n\n241-05-530
CATEGORIES:Gesundheit &amp; Selbsterfahrung,Juli,Sport &amp; Bewegung
LOCATION:Frauenbildungszentrum\, Schöne Aussicht 24 \, Bad Homburg\, Hesse
 n\, 61348  \, Deutschland
X-APPLE-STRUCTURED-LOCATION;VALUE=URI;X-ADDRESS=Schöne Aussicht 24 \, Bad 
 Homburg\, Hessen\, 61348  \, Deutschland;X-APPLE-RADIUS=100;X-TITLE=Frauen
 bildungszentrum:geo:0,0
END:VEVENT
BEGIN:VTIMEZONE
TZID:Europe/Berlin
X-LIC-LOCATION:Europe/Berlin
BEGIN:DAYLIGHT
DTSTART:20240331T030000
TZOFFSETFROM:+0100
TZOFFSETTO:+0200
TZNAME:CEST
END:DAYLIGHT
END:VTIMEZONE
END:VCALENDAR