BEGIN:VCALENDAR
VERSION:2.0
PRODID:-//wp-events-plugin.com//7.2.3.1//EN
BEGIN:VEVENT
UID:839@frauenbildungszentrum.de
DTSTART;TZID=Europe/Berlin:20251113T190000
DTEND;TZID=Europe/Berlin:20251113T203000
DTSTAMP:20250704T164853Z
URL:https://www.frauenbildungszentrum.de/events/platz-schaffen-fuers-wesen
 tliche
SUMMARY:PLATZ SCHAFFEN FÜRS WESENTLICHE
DESCRIPTION:Aufräumen – ausmisten - durchatmen\nManchmal spüren wir es 
 deutlich: Das Zuhause ist voll – nicht nur mit Dingen\, sondern auch mit
  alten Aufgaben\, Erwartungen und Erinnerungen.\n\nWenn die Räume eng wer
 den\, wird oft auch der Kopf voll. Und genau hier darf Veränderung beginn
 en. Wie viel brauchen wir wirklich? Welche Dinge unterstützen uns noch 
 – und was dürfen wir loslassen?\n\nIn diesem Workshop geht es darum\, s
 ich wieder Luft zu verschaffen – im wörtlichen und im übertragenen Sin
 n.\n\nMit einer Mischung aus Impulsvortrag\, praktischen Übungen und acht
 samen Reflexionsfragen erhalten Sie Inspirationen für ein leichteres Zuha
 use und einen klareren Alltag.\n\nSie lernen grundlegende Prinzipien der K
 onMari-Methode® nach der japanischen „Ordnungsfee“ Marie Kondo kennen
 \, erfahren\, wie Ordnung ohne Perfektionsdruck mit klaren Strukturen mög
 lich ist\, und wie Aufräumen sogar Freude machen kann – besonders\, wen
 n es gut zu Ihrer Lebenssituation passt.\n\nGanz gleich\, ob Sie sich gera
 de im Trubel der Familie mit Kindern befinden\, sich nach einer Veränderu
 ng selbst neu ausrichten möchten\, sich auf einen Wohnungswechsel oder de
 n Ruhestand vorbereiten\, oder ob Sie als Angehörige ihre Eltern beim sog
 enannten „Downsizing“ begleiten:\n\nDer Workshop bietet Ihnen Orientie
 rung\, Motivation und konkrete erste Schritte.\n\nDieser Kurs wird in Koop
 eration mit der Katholischen Erwachsenenbildung\, Bildungswerk Hochtaunus 
 angeboten.\n\n&nbsp\;\nLeitung: Katharina Cripps\nDo.\, 13. November 2025\
 n19.00 – 20.30 Uhr\n\n&nbsp\;\n\n252-07-003\n 
CATEGORIES:Gesundheit &amp; Selbsterfahrung,November
LOCATION:Frauenbildungszentrum\, Schöne Aussicht 24 \, Bad Homburg\, Hesse
 n\, 61348  \, Deutschland
X-APPLE-STRUCTURED-LOCATION;VALUE=URI;X-ADDRESS=Schöne Aussicht 24 \, Bad 
 Homburg\, Hessen\, 61348  \, Deutschland;X-APPLE-RADIUS=100;X-TITLE=Frauen
 bildungszentrum:geo:0,0
END:VEVENT
BEGIN:VTIMEZONE
TZID:Europe/Berlin
X-LIC-LOCATION:Europe/Berlin
BEGIN:STANDARD
DTSTART:20251026T020000
TZOFFSETFROM:+0200
TZOFFSETTO:+0100
TZNAME:CET
END:STANDARD
END:VTIMEZONE
END:VCALENDAR