BEGIN:VCALENDAR
VERSION:2.0
PRODID:-//wp-events-plugin.com//7.2.3.1//EN
BEGIN:VEVENT
UID:805@frauenbildungszentrum.de
DTSTART;TZID=Europe/Berlin:20250710T183000
DTEND;TZID=Europe/Berlin:20250814T193000
DTSTAMP:20250528T122904Z
URL:https://www.frauenbildungszentrum.de/events/pilates-sommerkurs
SUMMARY:Pilates - Sommerkurs
DESCRIPTION:Pilates ist ein sanftes Ganzkörpertraining\, das die tief lieg
 enden Muskeln arbeiten lässt und die Körperwahrnehmung schult. Mit Pilat
 es können Sie u.a. Rückenschmerzen und Harninkontinenz sehr effektiv vor
 beugen.\nDie Übungen beziehen gleichzeitig Körper und Geist mit ein. Dur
 ch Konzentration lernt man\, wie der Körper auch auf kleinste Veränderun
 gen in Spannungsmustern und die Ausführung der Bewegung reagiert. Bringen
  Sie bitte eine Gymnastik- / Yogamatte\, bequeme Trainingskleidung und war
 me Socken mit.\nLeitung: Anja Weckes\n5 x Do.\, 10.07. – 14.08.2025\nnic
 ht am 31.07.\n\n18:30 - 19:30 Uhr\n\n&nbsp\;\n\n251-05-333\n\n \n 
CATEGORIES:Juli,Sport &amp; Bewegung
LOCATION:Vereinshaus Dornholzhausen\, Saalburgstr. 158\, Bad Homburg\, Deut
 schland
X-APPLE-STRUCTURED-LOCATION;VALUE=URI;X-ADDRESS=Saalburgstr. 158\, Bad Homb
 urg\, Deutschland;X-APPLE-RADIUS=100;X-TITLE=Vereinshaus Dornholzhausen:ge
 o:0,0
END:VEVENT
BEGIN:VTIMEZONE
TZID:Europe/Berlin
X-LIC-LOCATION:Europe/Berlin
BEGIN:DAYLIGHT
DTSTART:20250330T030000
TZOFFSETFROM:+0100
TZOFFSETTO:+0200
TZNAME:CEST
END:DAYLIGHT
END:VTIMEZONE
END:VCALENDAR