BEGIN:VCALENDAR
VERSION:2.0
PRODID:-//wp-events-plugin.com//7.2.3.1//EN
BEGIN:VEVENT
UID:489@frauenbildungszentrum.de
DTSTART;TZID=Europe/Berlin:20260115T183000
DTEND;TZID=Europe/Berlin:20260326T193000
DTSTAMP:20251212T084256Z
URL:https://www.frauenbildungszentrum.de/events/pilates-fuer-frauen-mit-er
 fahrung-1-2
SUMMARY:Pilates - für Frauen mit Erfahrung 1
DESCRIPTION:Pilates ist ein sanftes Ganzkörpertraining\, das die tief lieg
 enden Muskeln arbeiten lässt und die Körperwahrnehmung schult. Mit Pilat
 es können Sie u.a. Rückenschmerzen und Harninkontinenz sehr effektiv vor
 beugen.\nDie Übungen beziehen gleichzeitig Körper und Geist mit ein. Dur
 ch Konzentration lernt man\, wie der Körper auch auf kleinste Veränderun
 gen in Spannungsmustern und die Ausführung der Bewegung reagiert. Bringen
  Sie bitte eine Gymnastik- / Yogamatte\, bequeme Trainingskleidung und war
 me Socken mit.\nLeitung: Anja Weckes\n10 x Do.\, 15.01. – 26.03.2026\n18
 .30 – 19.30 Uhr\nOrt: Vereinshaus Dornholzhausen\, Saalburgstr. 158\nVom
  12.03.2026 bis 26.03.2026 findet der Kurs im Frauenbildungszentrum statt.
 \n261-05-331
CATEGORIES:Januar,Sport &amp; Bewegung
LOCATION:Vereinshaus Dornholzhausen\, Saalburgstr. 158\, Bad Homburg\, Deut
 schland
X-APPLE-STRUCTURED-LOCATION;VALUE=URI;X-ADDRESS=Saalburgstr. 158\, Bad Homb
 urg\, Deutschland;X-APPLE-RADIUS=100;X-TITLE=Vereinshaus Dornholzhausen:ge
 o:0,0
END:VEVENT
BEGIN:VTIMEZONE
TZID:Europe/Berlin
X-LIC-LOCATION:Europe/Berlin
BEGIN:STANDARD
DTSTART:20251026T020000
TZOFFSETFROM:+0200
TZOFFSETTO:+0100
TZNAME:CET
END:STANDARD
END:VTIMEZONE
END:VCALENDAR