BEGIN:VCALENDAR
VERSION:2.0
PRODID:-//wp-events-plugin.com//7.2.3.1//EN
BEGIN:VEVENT
UID:759@frauenbildungszentrum.de
DTSTART;TZID=Europe/Berlin:20250328T173000
DTEND;TZID=Europe/Berlin:20250627T183000
DTSTAMP:20250306T122902Z
URL:https://www.frauenbildungszentrum.de/events/pilates-fuer-anfaengerinne
 n-5-2
SUMMARY:Pilates - für Anfängerinnen 6 (Anmeldung nur noch auf Warteliste 
 möglich)
DESCRIPTION:Pilates ist ein sanftes Ganzkörpertraining\, das die tief lieg
 enden Muskeln arbeiten lässt und die Körperwahrnehmung schult. Mit Pilat
 es können Sie u.a. Rückenschmerzen und Harninkontinenz sehr effektiv vor
 beugen.\nDie Übungen beziehen gleichzeitig Körper und Geist mit ein. Dur
 ch Konzentration lernt man\, wie der Körper auch auf kleinste Veränderun
 gen in Spannungsmustern und die Ausführung der Bewegung reagiert. Bringen
  Sie bitte eine Gymnastik- / Yogamatte\, bequeme Trainingskleidung und war
 me Socken mit.\nLeitung: Melanie Kuhn\n7 x Fr.\, 28.03. – 27.06.2025\nni
 cht am 02.05.\, 09.05.\, 30.05.\, 13.06. + 20.06.2025\n\n&nbsp\;\n\n251-05
 -313\n 
CATEGORIES:März,Sport &amp; Bewegung
LOCATION:Frauenbildungszentrum\, Schöne Aussicht 24 \, Bad Homburg\, Hesse
 n\, 61348  \, Deutschland
X-APPLE-STRUCTURED-LOCATION;VALUE=URI;X-ADDRESS=Schöne Aussicht 24 \, Bad 
 Homburg\, Hessen\, 61348  \, Deutschland;X-APPLE-RADIUS=100;X-TITLE=Frauen
 bildungszentrum:geo:0,0
END:VEVENT
BEGIN:VTIMEZONE
TZID:Europe/Berlin
X-LIC-LOCATION:Europe/Berlin
BEGIN:STANDARD
DTSTART:20241027T020000
TZOFFSETFROM:+0200
TZOFFSETTO:+0100
TZNAME:CET
END:STANDARD
BEGIN:DAYLIGHT
DTSTART:20250330T030000
TZOFFSETFROM:+0100
TZOFFSETTO:+0200
TZNAME:CEST
END:DAYLIGHT
END:VTIMEZONE
END:VCALENDAR