BEGIN:VCALENDAR
VERSION:2.0
PRODID:-//wp-events-plugin.com//7.2.3.1//EN
BEGIN:VEVENT
UID:907@frauenbildungszentrum.de
DTSTART;TZID=Europe/Berlin:20250913T110000
DTEND;TZID=Europe/Berlin:20250913T130000
DTSTAMP:20250814T110854Z
URL:https://www.frauenbildungszentrum.de/events/pferde-t-raeume-2-2
SUMMARY:Pferde – T – Räume 2 (Anmeldung nur auf Warteliste)
DESCRIPTION:Auszeit mit Pferden - Kleingruppe\nWalk´n Talk\, in einer klei
 nen Gruppe von 4 Personen gemeinsam unterwegs mit Pferd und Hund in der Na
 tur.\nEntspannt und bewegt Verbindung erleben und die Sichtweise der Pferd
 e erfahren.\nGenießen Sie an diesem Vormittag einen Urlaub für die Seele
 . Der genaue Ort wird vor Kursbeginn bekannt gegeben.\nLeitung: Karin Dets
 ch\nSamstag\, 13. September 2025\n11.00 – 13.00 Uhr\n252-07-002
CATEGORIES:Gesundheit &amp; Selbsterfahrung,September
LOCATION:Privater Reiterhof\, Wird noch bekannt gegeben\, Oberursel\, Nähe
  Stierstädter Heide\, Deutschland
X-APPLE-STRUCTURED-LOCATION;VALUE=URI;X-ADDRESS=Wird noch bekannt gegeben\,
  Oberursel\, Nähe Stierstädter Heide\, Deutschland;X-APPLE-RADIUS=100;X-
 TITLE=Privater Reiterhof:geo:0,0
END:VEVENT
BEGIN:VTIMEZONE
TZID:Europe/Berlin
X-LIC-LOCATION:Europe/Berlin
BEGIN:DAYLIGHT
DTSTART:20250330T030000
TZOFFSETFROM:+0100
TZOFFSETTO:+0200
TZNAME:CEST
END:DAYLIGHT
END:VTIMEZONE
END:VCALENDAR