BEGIN:VCALENDAR
VERSION:2.0
PRODID:-//wp-events-plugin.com//7.2.3.1//EN
BEGIN:VEVENT
UID:365@frauenbildungszentrum.de
DTSTART;TZID=Europe/Berlin:20250312T190000
DTEND;TZID=Europe/Berlin:20250312T203000
DTSTAMP:20241205T172104Z
URL:https://www.frauenbildungszentrum.de/events/panchakarma-ein-reset-fuer
 -den-koerper
SUMMARY:Panchakarma – ein Reset für den Körper
DESCRIPTION:Wer kennt sie nicht\, die unzähligen Belastungen des Alltags\,
  wie Stress\, Strahlung\, teils ungesunde Ernährung und viele andere.\nAl
 l diese Faktoren schädigen unseren Körper und machen früher oder späte
 r auf physischer und psychischer Ebene krank. Darum ist es gerade in der h
 eutigen Zeit wichtig\, diese Einflüsse weitestgehend zu meiden\, Stress a
 bzubauen\, wieder zu sich selbst zu finden und den Körper zu entgiften.\n
 Und genau da kommt die Panchakarma-Kur ins Spiel. Aber was macht diese Kur
  aus? Wie läuft so eine Reinigungskur im Allgemeinen ab? Welche konkreten
  Auswirkungen auf den Körper sowie die Gesundheit sind zu erwarten? Warum
  stellt sie bei vielen gesundheitlichen Problemen „Die KUR“ schlechthi
 n dar? All diesen Fragen werden wir uns im Laufe dieses Abends widmen.\nLe
 itung: Jana Regner\n\nMittwoch\, 12. März 2025\n19.00 – 20.30 Uhr\n\n&n
 bsp\;\n\n251-07-015\n\n \n\n 
CATEGORIES:Gesundheit &amp; Selbsterfahrung,März
LOCATION:Frauenbildungszentrum\, Schöne Aussicht 24 \, Bad Homburg\, Hesse
 n\, 61348  \, Deutschland
X-APPLE-STRUCTURED-LOCATION;VALUE=URI;X-ADDRESS=Schöne Aussicht 24 \, Bad 
 Homburg\, Hessen\, 61348  \, Deutschland;X-APPLE-RADIUS=100;X-TITLE=Frauen
 bildungszentrum:geo:0,0
END:VEVENT
BEGIN:VTIMEZONE
TZID:Europe/Berlin
X-LIC-LOCATION:Europe/Berlin
BEGIN:STANDARD
DTSTART:20241027T020000
TZOFFSETFROM:+0200
TZOFFSETTO:+0100
TZNAME:CET
END:STANDARD
END:VTIMEZONE
END:VCALENDAR