BEGIN:VCALENDAR
VERSION:2.0
PRODID:-//wp-events-plugin.com//7.2.3.1//EN
BEGIN:VEVENT
UID:137@frauenbildungszentrum.de
DTSTART;TZID=Europe/Berlin:20230614T163000
DTEND;TZID=Europe/Berlin:20230719T180000
DTSTAMP:20230110T201307Z
URL:https://www.frauenbildungszentrum.de/events/office-yoga-in-der-mittags
 pause-online-3
SUMMARY:Office Yoga in der Mittagspause – online 3
DESCRIPTION:Möchten Sie mehr Bewegung und Entspannung in Ihren Arbeitsallt
 ag integrieren\, haben aber wenig Zeit und Möglichkeit das Büro zu verla
 ssen? Dann ist Office Yoga genau das richtige für Sie!\nDie Übungen dehn
 en und entspannen Ihren Körper ohne\, dass Sie ins Schwitzen geraten. Wir
  praktizieren im Stehen und auf dem Stuhl\, weitere Hilfsmittel sind nicht
  nötig.\nGerade wenn Sie viel sitzen\, oder am PC arbeiten\, werden Sie v
 on diesem Energie-Kick profitieren. Sie werden danach entspannter\, fokuss
 ierter und motivierter weiterarbeiten können.\nLeitung: Viola Perle\n6 x 
 Mi.\, 14.06. – 19.07.2023\n\n16.30 – 18.00 Uhr\n231-05-223\n
CATEGORIES:Gesundheit &amp; Selbsterfahrung,Juni,Sport &amp; Bewegung
LOCATION:#
END:VEVENT
BEGIN:VTIMEZONE
TZID:Europe/Berlin
X-LIC-LOCATION:Europe/Berlin
BEGIN:DAYLIGHT
DTSTART:20230326T030000
TZOFFSETFROM:+0100
TZOFFSETTO:+0200
TZNAME:CEST
END:DAYLIGHT
END:VTIMEZONE
END:VCALENDAR