BEGIN:VCALENDAR
VERSION:2.0
PRODID:-//wp-events-plugin.com//7.2.3.1//EN
BEGIN:VEVENT
UID:400@frauenbildungszentrum.de
DTSTART;TZID=Europe/Berlin:20241213T180000
DTEND;TZID=Europe/Berlin:20241213T210000
DTSTAMP:20241121T091758Z
URL:https://www.frauenbildungszentrum.de/events/nuetzliche-smartphone-apps
 -fuer-den-urlaub
SUMMARY:Nützliche Smartphone-Apps für den Urlaub
DESCRIPTION:Voraussetzungen: Grundkenntnisse im Umgang mit dem Smartphone\n
 Vor dem wohlverdienten Urlaub gibt es immer viel zu organisieren: vom Reis
 eablauf\, der Buchung\, der Packliste bis zum Transport und den Aktivität
 en am Reiseziel.\nIhr Smartphone eignet sich mittlerweile ideal als Reisep
 laner und hilft Ihnen Zeit und Nerven zu sparen. Lernen Sie in diesem Work
 shop die besten Apps für den Urlaub kennen!\nKursleitung: Stefanie Fische
 r\nFreitag\, 13. Dezember 2024\n18.00 – 21.00 Uhr\n\n&nbsp\;\n\nMindestt
 eilnehmerinnenzahl: 4\n\n&nbsp\;\n\n242-01-302\n\n 
CATEGORIES:Computer Spezial,Computerkurse,Dezember
LOCATION:Frauenbildungszentrum\, Schöne Aussicht 24 \, Bad Homburg\, Hesse
 n\, 61348  \, Deutschland
X-APPLE-STRUCTURED-LOCATION;VALUE=URI;X-ADDRESS=Schöne Aussicht 24 \, Bad 
 Homburg\, Hessen\, 61348  \, Deutschland;X-APPLE-RADIUS=100;X-TITLE=Frauen
 bildungszentrum:geo:0,0
END:VEVENT
BEGIN:VTIMEZONE
TZID:Europe/Berlin
X-LIC-LOCATION:Europe/Berlin
BEGIN:STANDARD
DTSTART:20241027T020000
TZOFFSETFROM:+0200
TZOFFSETTO:+0100
TZNAME:CET
END:STANDARD
END:VTIMEZONE
END:VCALENDAR