BEGIN:VCALENDAR
VERSION:2.0
PRODID:-//wp-events-plugin.com//7.2.3.1//EN
BEGIN:VEVENT
UID:624@frauenbildungszentrum.de
DTSTART;TZID=Europe/Berlin:20250815T160000
DTEND;TZID=Europe/Berlin:20250912T170000
DTSTAMP:20250710T090113Z
URL:https://www.frauenbildungszentrum.de/events/nordic-walking-technik-tra
 ining
SUMMARY:Nordic Walking Technik Training 1
DESCRIPTION:Gemeinsam mit Gleichgesinnten die Nordic Walking-Technik lernen
 \, auffrischen und trainieren - die beliebte Outdoor-Ganzkörper-Sportart 
 mit der richtigen Technik in der landgräflichen Gartenlandschaft mit Freu
 de und Leichtigkeit praktizieren.\n\nDieser Kurs richtet sich an Anfänger
 innen und Fortgeschrittene\, die häufiger walken wollen. Wir beginnen mit
  der Beinarbeit und Rotation\, dann folgen Körperhaltung und Armarbeit\, 
 so dass aufeinander aufbauend eine Technik-Routine aufgebaut wird.\n\nEige
 ne NW-Stöcke sowie wetterangepasste Sportbekleidung bitte mitbringen. Bei
  Gewitter und stärkerem Regen wird der Kurs verschoben.\n\n&nbsp\;\nLeitu
 ng: Antje Fink\n5 x Fr.\, 15.08. – 12.09.2025\n16.00 – 17.00 Uhr\n\nOr
 t: Tannenwaldweg 102\, HG-Dornholzhausen\nTreffpunkt: Wanderparkplatz vor 
 dem Gotischen Haus\n252-05-741
CATEGORIES:August,Sport &amp; Bewegung
LOCATION:Wanderparkplatz vor dem Gotischen Haus\, Tannenwaldweg 102\, HG-Do
 rnholzhausen\, Deutschland
X-APPLE-STRUCTURED-LOCATION;VALUE=URI;X-ADDRESS=Tannenwaldweg 102\, HG-Dorn
 holzhausen\, Deutschland;X-APPLE-RADIUS=100;X-TITLE=Wanderparkplatz vor de
 m Gotischen Haus:geo:0,0
END:VEVENT
BEGIN:VTIMEZONE
TZID:Europe/Berlin
X-LIC-LOCATION:Europe/Berlin
BEGIN:DAYLIGHT
DTSTART:20250330T030000
TZOFFSETFROM:+0100
TZOFFSETTO:+0200
TZNAME:CEST
END:DAYLIGHT
END:VTIMEZONE
END:VCALENDAR