BEGIN:VCALENDAR
VERSION:2.0
PRODID:-//wp-events-plugin.com//7.2.3.1//EN
BEGIN:VEVENT
UID:817@frauenbildungszentrum.de
DTSTART;TZID=Europe/Berlin:20251010T160000
DTEND;TZID=Europe/Berlin:20251024T170000
DTSTAMP:20250630T140011Z
URL:https://www.frauenbildungszentrum.de/events/nordic-walking-technik-tra
 ining-2
SUMMARY:Nordic Walking Technik Training 2
DESCRIPTION:Gemeinsam mit Gleichgesinnten die Nordic Walking-Technik lernen
 \, auffrischen und trainieren - die beliebte Outdoor-Ganzkörper-Sportart 
 mit der richtigen Technik in der landgräflichen Gartenlandschaft mit Freu
 de und Leichtigkeit praktizieren.\n\nDieser Kurs richtet sich an Anfänger
 innen und Fortgeschrittene\, die häufiger walken wollen. Wir beginnen mit
  der Beinarbeit und Rotation\, dann folgen Körperhaltung und Armarbeit\, 
 so dass aufeinander aufbauend eine Technik-Routine aufgebaut wird.\n\nEige
 ne NW-Stöcke sowie wetterangepasste Sportbekleidung bitte mitbringen. Bei
  Gewitter und stärkerem Regen wird der Kurs verschoben.\n\n&nbsp\;\nLeitu
 ng: Antje Fink\n3 x Fr.\, 10.10. – 24.10.2025\n16.00 – 17.00 Uhr\n\nOr
 t: Tannenwaldweg 102\, HG-Dornholzhausen\nTreffpunkt: Wanderparkplatz vor 
 dem Gotischen Haus\n252-05-742
CATEGORIES:Oktober,Sport &amp; Bewegung
LOCATION:Wanderparkplatz vor dem Gotischen Haus\, Tannenwaldweg 102\, HG-Do
 rnholzhausen\, Deutschland
X-APPLE-STRUCTURED-LOCATION;VALUE=URI;X-ADDRESS=Tannenwaldweg 102\, HG-Dorn
 holzhausen\, Deutschland;X-APPLE-RADIUS=100;X-TITLE=Wanderparkplatz vor de
 m Gotischen Haus:geo:0,0
END:VEVENT
BEGIN:VTIMEZONE
TZID:Europe/Berlin
X-LIC-LOCATION:Europe/Berlin
BEGIN:DAYLIGHT
DTSTART:20250330T030000
TZOFFSETFROM:+0100
TZOFFSETTO:+0200
TZNAME:CEST
END:DAYLIGHT
END:VTIMEZONE
END:VCALENDAR