BEGIN:VCALENDAR
VERSION:2.0
PRODID:-//wp-events-plugin.com//7.2.3.1//EN
BEGIN:VEVENT
UID:371@frauenbildungszentrum.de
DTSTART;TZID=Europe/Berlin:20240923T170000
DTEND;TZID=Europe/Berlin:20240923T210000
DTSTAMP:20240628T132951Z
URL:https://www.frauenbildungszentrum.de/events/neue-lebensphasen-utig-und
 -mit-freude-gestalten
SUMMARY:Neue Lebensphasen mutig und mit Freude gestalten
DESCRIPTION:Wie soll es weitergehen? Wohin möchte ich? Was hält mich auf?
 \nDiese Fragen können sich an ganz unterschiedlichen Punkten im Leben ste
 llen: Vielleicht steht gerade ein runder Geburtstag an\, die Kinder werden
  erwachsen\, die Rente rückt näher oder die Unzufriedenheit im Job wäch
 st.\nWo stehe ich gerade? Welche Gefühle melden sich dazu und warum? Als 
 Ausgangspunkt ist eine Bestandsaufnahme hilfreich. Im Workshop bringen wir
  zunächst Klarheit und Struktur in die vielen Gedanken\, die um ihr Thema
  kreisen. Welche Lebensbereiche sind zuletzt zu kurz gekommen? Was soll an
 ders werden?\nGemeinsam gehen wir der Frage auf den Grund\, was Sie dafür
  brauchen\, um mutig Ihre gewünschte Veränderung anzustoßen und einen n
 euen Weg zu betreten. Mit einem guten Bewusstsein für Ihre Stärken und R
 essourcen entwickeln Sie einen Plan\, wie sie diese für Ihr Vorhaben eins
 etzen können.\n&nbsp\;\nLeitung: Dr. Melanie Damm\nMontag\, 23. September
  2024\n\n17.00 – 21.00 Uhr\n\n&nbsp\;\n\n242-07-010\n\n \n 
CATEGORIES:Gesundheit &amp; Selbsterfahrung,September
LOCATION:Frauenbildungszentrum\, Schöne Aussicht 24 \, Bad Homburg\, Hesse
 n\, 61348  \, Deutschland
X-APPLE-STRUCTURED-LOCATION;VALUE=URI;X-ADDRESS=Schöne Aussicht 24 \, Bad 
 Homburg\, Hessen\, 61348  \, Deutschland;X-APPLE-RADIUS=100;X-TITLE=Frauen
 bildungszentrum:geo:0,0
END:VEVENT
BEGIN:VTIMEZONE
TZID:Europe/Berlin
X-LIC-LOCATION:Europe/Berlin
BEGIN:DAYLIGHT
DTSTART:20240331T030000
TZOFFSETFROM:+0100
TZOFFSETTO:+0200
TZNAME:CEST
END:DAYLIGHT
END:VTIMEZONE
END:VCALENDAR