BEGIN:VCALENDAR
VERSION:2.0
PRODID:-//wp-events-plugin.com//7.2.3.1//EN
BEGIN:VEVENT
UID:382@frauenbildungszentrum.de
DTSTART;TZID=Europe/Berlin:20240323T140000
DTEND;TZID=Europe/Berlin:20240323T160000
DTSTAMP:20231207T145610Z
URL:https://www.frauenbildungszentrum.de/events/naehtreff-am-nachmittag-1
SUMMARY:Nähtreff am Nachmittag
DESCRIPTION:Tipps und Hilfe für Fortgeschrittene\nNähen Sie öfter oder r
 egelmäßig und haben eventuell schon Kurse besucht? Auch wenn bereits Erf
 ahrungen im Nähen vorhanden sind\, tauchen doch immer mal Fragen bei best
 immten Projekten oder im Umgang mit der Nähmaschine auf.\nDiese konkreten
  Fragen können an diesem Nachmittag behandelt werden.\nBitte bringen Sie 
 bei Bedarf Ihre Nähmaschine und das Kleidungsstück bzw. Teil\, an dem Si
 e gerade arbeiten und bei dem Sie Hilfe benötigen\, zum Nähtreff mit.\nL
 eitung: Rita Gerlach\nSamstag\, 23. März 2024\n14.00 – 16.00 Uhr\n\n241
 -06-005\n\n&nbsp\;
CATEGORIES:Kreatives,März
LOCATION:Frauenbildungszentrum\, Schöne Aussicht 24 \, Bad Homburg\, Hesse
 n\, 61348  \, Deutschland
X-APPLE-STRUCTURED-LOCATION;VALUE=URI;X-ADDRESS=Schöne Aussicht 24 \, Bad 
 Homburg\, Hessen\, 61348  \, Deutschland;X-APPLE-RADIUS=100;X-TITLE=Frauen
 bildungszentrum:geo:0,0
END:VEVENT
BEGIN:VTIMEZONE
TZID:Europe/Berlin
X-LIC-LOCATION:Europe/Berlin
BEGIN:STANDARD
DTSTART:20231029T020000
TZOFFSETFROM:+0200
TZOFFSETTO:+0100
TZNAME:CET
END:STANDARD
END:VTIMEZONE
END:VCALENDAR