BEGIN:VCALENDAR
VERSION:2.0
PRODID:-//wp-events-plugin.com//7.2.3.1//EN
BEGIN:VEVENT
UID:423@frauenbildungszentrum.de
DTSTART;TZID=Europe/Berlin:20240615T103000
DTEND;TZID=Europe/Berlin:20240615T133000
DTSTAMP:20240529T094402Z
URL:https://www.frauenbildungszentrum.de/events/naehspass-fuer-kids-3
SUMMARY:Nähspass für Kids 3
DESCRIPTION:Für Kinder von 8 – 12 Jahren\nEgal ob du schon gut nähen ka
 nnst oder ganz neu anfängst. In diesem Kurs lernst du deine Nähmaschine 
 richtig kennen.\nJe nach deinen Wünschen und Kenntnissen kannst du dir da
 s Projekt mitbringen oder im Kurs aussuchen. Du lernst den sicheren Umgang
  mit der eigenen Nähmaschine und erfährst alles\, was du sonst noch wiss
 en musst um dauerhaft Freude am Nähhobby zu haben.\nBitte mitbringen: Nä
 hmaschine\, Verlängerungskabel\, Zubehör\, Garn\, Baumwollstoff uni und 
 gemustert.\n\n&nbsp\;\nLeitung: Melanie Miano\nSamstag\, 15. Juni 2024\n10
 .30 – 13.30 Uhr\nMindestteilnehmerzahl: 4\n\n241-06-010\n\n&nbsp\;
CATEGORIES:Juni,Kinder &amp; Jugendliche,Kreatives
LOCATION:Frauenbildungszentrum\, Schöne Aussicht 24 \, Bad Homburg\, Hesse
 n\, 61348  \, Deutschland
X-APPLE-STRUCTURED-LOCATION;VALUE=URI;X-ADDRESS=Schöne Aussicht 24 \, Bad 
 Homburg\, Hessen\, 61348  \, Deutschland;X-APPLE-RADIUS=100;X-TITLE=Frauen
 bildungszentrum:geo:0,0
END:VEVENT
BEGIN:VTIMEZONE
TZID:Europe/Berlin
X-LIC-LOCATION:Europe/Berlin
BEGIN:DAYLIGHT
DTSTART:20240331T030000
TZOFFSETFROM:+0100
TZOFFSETTO:+0200
TZNAME:CEST
END:DAYLIGHT
END:VTIMEZONE
END:VCALENDAR