BEGIN:VCALENDAR
VERSION:2.0
PRODID:-//wp-events-plugin.com//7.2.3.1//EN
BEGIN:VEVENT
UID:422@frauenbildungszentrum.de
DTSTART;TZID=Europe/Berlin:20250111T100000
DTEND;TZID=Europe/Berlin:20250112T140000
DTSTAMP:20240703T092319Z
URL:https://www.frauenbildungszentrum.de/events/naehspass-fuer-kids-2
SUMMARY:Nähspass für Kids 2
DESCRIPTION:Für Kinder von 8 – 12 Jahren\nEgal ob du schon gut nähen ka
 nnst oder ganz neu anfängst. In diesem Kurs lernst du deine Nähmaschine 
 richtig kennen.\nJe nach deinen Wünschen und Kenntnissen kannst du dir da
 s Projekt mitbringen oder im Kurs aussuchen. Du lernst den sicheren Umgang
  mit der eigenen Nähmaschine und erfährst alles\, was du sonst noch wiss
 en musst um dauerhaft Freude am Nähhobby zu haben.\nBitte mitbringen: Nä
 hmaschine\, Verlängerungskabel\, Zubehör\, Garn\, Baumwollstoff uni und 
 gemustert.\n\n&nbsp\;\nLeitung: Melanie Miano\n( Es entstehen Materialkost
 en in Höhe von € 3\,-- je Termin\, die direkt an die Referentin zu zahl
 en sind. ) \nSamstag\, 11. Januar 2025 und\nSonntag\, 12. Januar 2025\n\n1
 0.00 – 14.00 Uhr\nMindestteilnehmerzahl: 4\n\n251-06-006\n\n&nbsp\;
CATEGORIES:Januar,Kinder &amp; Jugendliche,Kreatives
LOCATION:Frauenbildungszentrum\, Schöne Aussicht 24 \, Bad Homburg\, Hesse
 n\, 61348  \, Deutschland
X-APPLE-STRUCTURED-LOCATION;VALUE=URI;X-ADDRESS=Schöne Aussicht 24 \, Bad 
 Homburg\, Hessen\, 61348  \, Deutschland;X-APPLE-RADIUS=100;X-TITLE=Frauen
 bildungszentrum:geo:0,0
END:VEVENT
BEGIN:VTIMEZONE
TZID:Europe/Berlin
X-LIC-LOCATION:Europe/Berlin
BEGIN:STANDARD
DTSTART:20241027T020000
TZOFFSETFROM:+0200
TZOFFSETTO:+0100
TZNAME:CET
END:STANDARD
END:VTIMEZONE
END:VCALENDAR