BEGIN:VCALENDAR
VERSION:2.0
PRODID:-//wp-events-plugin.com//7.2.3.1//EN
BEGIN:VEVENT
UID:421@frauenbildungszentrum.de
DTSTART;TZID=Europe/Berlin:20241026T100000
DTEND;TZID=Europe/Berlin:20241026T140000
DTSTAMP:20240703T092035Z
URL:https://www.frauenbildungszentrum.de/events/naehspass-fuer-kids-1
SUMMARY:Nähspass für Kids 1
DESCRIPTION:Für Kinder von 8 – 12 Jahren\nEgal ob du schon gut nähen ka
 nnst oder ganz neu anfängst. In diesem Kurs lernst du deine Nähmaschine 
 richtig kennen.\nJe nach deinen Wünschen und Kenntnissen kannst du dir da
 s Projekt mitbringen oder im Kurs aussuchen. Du lernst den sicheren Umgang
  mit der eigenen Nähmaschine und erfährst alles\, was du sonst noch wiss
 en musst um dauerhaft Freude am Nähhobby zu haben.\nBitte mitbringen: Nä
 hmaschine\, Verlängerungskabel\, Zubehör\, Garn\, Baumwollstoff uni und 
 gemustert.\n\n&nbsp\;\n\n( Es entstehen Materialkosten in Höhe von € 3\
 ,-- je Termin\, die direkt an die Referentin zu zahlen sind. )\nLeitung: M
 elanie Miano\nSamstag\, 26. Oktober 2024\n10.00 – 14.00 Uhr\nMindestteil
 nehmerzahl: 4\n\n242-06-006\n\n&nbsp\;
CATEGORIES:Kinder &amp; Jugendliche,Kreatives,Oktober
LOCATION:Frauenbildungszentrum\, Schöne Aussicht 24 \, Bad Homburg\, Hesse
 n\, 61348  \, Deutschland
X-APPLE-STRUCTURED-LOCATION;VALUE=URI;X-ADDRESS=Schöne Aussicht 24 \, Bad 
 Homburg\, Hessen\, 61348  \, Deutschland;X-APPLE-RADIUS=100;X-TITLE=Frauen
 bildungszentrum:geo:0,0
END:VEVENT
BEGIN:VTIMEZONE
TZID:Europe/Berlin
X-LIC-LOCATION:Europe/Berlin
BEGIN:DAYLIGHT
DTSTART:20240331T030000
TZOFFSETFROM:+0100
TZOFFSETTO:+0200
TZNAME:CEST
END:DAYLIGHT
END:VTIMEZONE
END:VCALENDAR