BEGIN:VCALENDAR
VERSION:2.0
PRODID:-//wp-events-plugin.com//7.2.3.1//EN
BEGIN:VEVENT
UID:16@frauenbildungszentrum.de
DTSTART;TZID=Europe/Berlin:20260117T140000
DTEND;TZID=Europe/Berlin:20260131T180000
DTSTAMP:20251212T103907Z
URL:https://www.frauenbildungszentrum.de/events/naehkurs-fuer-hobbyschneid
 erinnen-und-solche-die-es-werden-wollen
SUMMARY:Nähkurs für HobbySchneiderinnen und  solche\, die es werden wolle
 n 1
DESCRIPTION:Entfliehen Sie dem Alltag und freuen Sie sich auf kreatives Nä
 hen und Schneidern in einer Gruppe von nur vier Teilnehmerinnen. Wenn Sie
  eine Nähmaschine ohne den passenden „Führerschein“ besitzen und die
 se bisher wenig genutzt haben oder auch einen Einstieg in dieses schöne\,
  produktive Hobby suchen\, dann sind Sie hier genau richtig.\nBringen Sie 
 Schreibmittel und nach Möglichkeit Ihre Nähmaschine samt Ersatznadeln un
 d Bedienungsanleitung\, Stoffe\, Garne und Zuschneideschere zu den Kurstag
 en mit.\nBitte teilen Sie bei Ihrer Anmeldung mit\, ob Sie Anfängerin ode
 r Fortgeschrittene sind und für welche Schwerpunkte Sie sich interessiere
 n\, z.B. Änderungen und Instandsetzungen\, Anfertigen von (bestimmten) Kl
 eidungsstücken oder Utensilien.\nLeitung: Rita Gerlach\n3 x Sa.\, 17.01. 
 – 31.01.2026\njeweils 14.00 – 18.00 Uhr\n\n252-06-001\n\n&nbsp\;
CATEGORIES:Januar,Kreatives
LOCATION:Frauenbildungszentrum\, Schöne Aussicht 24 \, Bad Homburg\, Hesse
 n\, 61348  \, Deutschland
X-APPLE-STRUCTURED-LOCATION;VALUE=URI;X-ADDRESS=Schöne Aussicht 24 \, Bad 
 Homburg\, Hessen\, 61348  \, Deutschland;X-APPLE-RADIUS=100;X-TITLE=Frauen
 bildungszentrum:geo:0,0
END:VEVENT
BEGIN:VTIMEZONE
TZID:Europe/Berlin
X-LIC-LOCATION:Europe/Berlin
BEGIN:STANDARD
DTSTART:20251026T020000
TZOFFSETFROM:+0200
TZOFFSETTO:+0100
TZNAME:CET
END:STANDARD
END:VTIMEZONE
END:VCALENDAR