BEGIN:VCALENDAR
VERSION:2.0
PRODID:-//wp-events-plugin.com//7.2.3.1//EN
BEGIN:VEVENT
UID:381@frauenbildungszentrum.de
DTSTART;TZID=Europe/Berlin:20240525T140000
DTEND;TZID=Europe/Berlin:20240608T180000
DTSTAMP:20240522T071356Z
URL:https://www.frauenbildungszentrum.de/events/naehkurs-fuer-hobbyschneid
 erinnen-und-solche-die-es-werden-wollen-4
SUMMARY:Nähkurs für HobbySchneiderinnen und  solche\, die es werden wolle
 n 4
DESCRIPTION:Entfliehen Sie dem Alltag und freuen Sie sich auf kreatives Nä
 hen und Schneidern in einer Gruppe von nur vier Teilnehmerinnen. Wenn Sie
  eine Nähmaschine ohne den passenden „Führerschein“ besitzen und die
 se bisher wenig genutzt haben oder auch einen Einstieg in dieses schöne\,
  produktive Hobby suchen\, dann sind Sie hier genau richtig.\nBringen Sie 
 Schreibmittel und nach Möglichkeit Ihre Nähmaschine samt Ersatznadeln un
 d Bedienungsanleitung\, Stoffe\, Garne und Zuschneideschere zu den Kurstag
 en mit.\nBitte teilen Sie bei Ihrer Anmeldung mit\, ob Sie Anfängerin ode
 r Fortgeschrittene sind und für welche Schwerpunkte Sie sich interessiere
 n\, z.B. Änderungen und Instandsetzungen\, Anfertigen von (bestimmten) Kl
 eidungsstücken oder Utensilien.\nLeitung: Rita Gerlach\n&nbsp\;\n\n3 x Sa
 .\, 25.05. – 08.06.2024\njeweils 14.00 – 18.00 Uhr\n\n241-06-004\n\n&n
 bsp\;
CATEGORIES:Kreatives,Mai
LOCATION:Frauenbildungszentrum\, Schöne Aussicht 24 \, Bad Homburg\, Hesse
 n\, 61348  \, Deutschland
X-APPLE-STRUCTURED-LOCATION;VALUE=URI;X-ADDRESS=Schöne Aussicht 24 \, Bad 
 Homburg\, Hessen\, 61348  \, Deutschland;X-APPLE-RADIUS=100;X-TITLE=Frauen
 bildungszentrum:geo:0,0
END:VEVENT
BEGIN:VTIMEZONE
TZID:Europe/Berlin
X-LIC-LOCATION:Europe/Berlin
BEGIN:DAYLIGHT
DTSTART:20240331T030000
TZOFFSETFROM:+0100
TZOFFSETTO:+0200
TZNAME:CEST
END:DAYLIGHT
END:VTIMEZONE
END:VCALENDAR