BEGIN:VCALENDAR
VERSION:2.0
PRODID:-//wp-events-plugin.com//7.2.3.1//EN
BEGIN:VEVENT
UID:370@frauenbildungszentrum.de
DTSTART;TZID=Europe/Berlin:20231029T100000
DTEND;TZID=Europe/Berlin:20231029T150000
DTSTAMP:20231010T064558Z
URL:https://www.frauenbildungszentrum.de/events/muehlenwanderweg-oberursel
SUMMARY:Mühlenwanderweg Oberursel
DESCRIPTION:Der Oberurseler Mühlenwanderweg führt von der Hohemark bis zu
 r Mündung des Urselbachs in die Nidda in Frankfurt-Heddernheim. Insgesamt
  42 Orte\, an denen sich mit Wasserkraft betriebene Werke befanden\, gilt 
 es auf dem ca. 15 km langen Weg zu entdecken.\nDer Mühlenwanderweg führ
 t durch Oberursel\, über Stierstadt\, an der Krebsmühle vorbei zur Stadt
 grenze von Frankfurt und fließt dort in die Nidda. In Heddernheim endet d
 ie Wanderung. Von dort fahren wir mit der U-Bahn zurück zum Ausgangspunkt
  Hohemark\, Die Bahnfahrkarte ist nicht mit im Kurspreis enthalten.\nDie W
 anderung findet bei jedem Wetter statt. Proviant bitte selbst mitbringen. 
 Keine spezielle Kondition beim Wandern erforderlich.\nTreffpunkt: Endhalte
 stelle der U3\, Hohemarkstr.\n61440 Oberursel Hohemark\nLeitung: Elisabeth
  Buddeus-Steiff\nSonntag\, 29. Oktober 2023\n\n10.00 – 15.00 Uhr\n\nMind
 estteilnehmerinnenzahl: 5\n\n&nbsp\;\n\n&nbsp\;\n\n232-07-004\n\n \n 
CATEGORIES:Gesundheit &amp; Selbsterfahrung,Oktober,Sport &amp; Bewegung
LOCATION:Bahnhof Usingen\,  Bahnhofstr. 32\, Usingen\, 61250\, Deutschland
X-APPLE-STRUCTURED-LOCATION;VALUE=URI;X-ADDRESS= Bahnhofstr. 32\, Usingen\,
  61250\, Deutschland;X-APPLE-RADIUS=100;X-TITLE=Bahnhof Usingen:geo:0,0
END:VEVENT
BEGIN:VTIMEZONE
TZID:Europe/Berlin
X-LIC-LOCATION:Europe/Berlin
BEGIN:STANDARD
DTSTART:20231029T020000
TZOFFSETFROM:+0200
TZOFFSETTO:+0100
TZNAME:CET
END:STANDARD
END:VTIMEZONE
END:VCALENDAR