BEGIN:VCALENDAR
VERSION:2.0
PRODID:-//wp-events-plugin.com//7.2.3.1//EN
BEGIN:VEVENT
UID:384@frauenbildungszentrum.de
DTSTART;TZID=Europe/Berlin:20231102T180000
DTEND;TZID=Europe/Berlin:20231130T200000
DTSTAMP:20230705T084301Z
URL:https://www.frauenbildungszentrum.de/events/mit-tipps-und-tricks-zum-e
 igenen-buch-fuer-fortgeschrittene
SUMMARY:Mit Tipps und Tricks zum eigenen Buch (für Fortgeschrittene)
DESCRIPTION:Entwicklungshilfe für Ihren Roman oder Ihre Geschichte\nVoraus
 setzungen: Sie haben bereits eine Idee\, bestenfalls einen Plott\, Sie wis
 sen\, dass eine Heldenreise nicht im Urlaubskatalog zu finden ist und Figu
 renentwicklung nicht im Diätratgeber\n\nODER Sie haben einen der Einsteig
 erkurse besucht\nDer Workshop gibt Impulse und verhilft mit Übungen und k
 reativen Techniken zum eigenen Werk. Dieses kann sowohl autobiographisch a
 ls auch fiktiv sein\, an sich selbst gerichtet\, an die Familie oder ein g
 roßes Publikum.\nDabei geht es in einer Kleingruppe von maximal vier bis 
 sechs Teilnehmerinnen sowohl um Theorien als auch Schreiben als Handwerk.\
 nAls Material werden nur Stift und Papier benötigt.\nLeitung: Andrea Beck
 er\n5 x Do.\, 02.11. - 30.11.2023\n18.00 – 20.00 Uhr\n\n&nbsp\;\n232-06-
 008
CATEGORIES:Kreatives,November
LOCATION:Frauenbildungszentrum\, Schöne Aussicht 24 \, Bad Homburg\, Hesse
 n\, 61348  \, Deutschland
X-APPLE-STRUCTURED-LOCATION;VALUE=URI;X-ADDRESS=Schöne Aussicht 24 \, Bad 
 Homburg\, Hessen\, 61348  \, Deutschland;X-APPLE-RADIUS=100;X-TITLE=Frauen
 bildungszentrum:geo:0,0
END:VEVENT
BEGIN:VTIMEZONE
TZID:Europe/Berlin
X-LIC-LOCATION:Europe/Berlin
BEGIN:STANDARD
DTSTART:20231029T020000
TZOFFSETFROM:+0200
TZOFFSETTO:+0100
TZNAME:CET
END:STANDARD
END:VTIMEZONE
END:VCALENDAR