BEGIN:VCALENDAR
VERSION:2.0
PRODID:-//wp-events-plugin.com//7.2.3.1//EN
BEGIN:VEVENT
UID:21@frauenbildungszentrum.de
DTSTART;TZID=Europe/Berlin:20251028T180000
DTEND;TZID=Europe/Berlin:20251125T200000
DTSTAMP:20250706T160050Z
URL:https://www.frauenbildungszentrum.de/events/mit-tipps-und-tricks-zum-e
 igenen-buch-2
SUMMARY:Mit Tipps und Tricks zum eigenen Buch
DESCRIPTION:Starthilfe für Ihren Roman oder Ihre Geschichte\nVorbereitung:
  Bitte das Buch "Der Gesang der Flusskrebse" lesen (oder den Film anschaue
 n)\nDer Workshop gibt Impulse und verhilft mit Übungen und kreativen Tech
 niken zum eigenen Werk. Dieses kann sowohl autobiographisch als auch fikti
 v sein\, an sich selbst gerichtet\, an die Familie oder ein großes Publik
 um.\nDabei geht es in einer Kleingruppe von maximal vier bis sechs Teilneh
 merinnen sowohl um Theorien und Schreiben als Handwerk\, als auch die vers
 chiedenen Formen der Veröffentlichung. Vorkenntnisse sind nicht erforderl
 ich. Als Material werden nur Stift und Papier benötigt.\nLeitung: Andrea 
 Becker\n5 x Di.\, 28.10. – 25.11.2025\n18.00 – 20.00 Uhr\n\n&nbsp\;\n2
 52-06-006
CATEGORIES:Kreatives,Oktober
LOCATION:Frauenbildungszentrum\, Schöne Aussicht 24 \, Bad Homburg\, Hesse
 n\, 61348  \, Deutschland
X-APPLE-STRUCTURED-LOCATION;VALUE=URI;X-ADDRESS=Schöne Aussicht 24 \, Bad 
 Homburg\, Hessen\, 61348  \, Deutschland;X-APPLE-RADIUS=100;X-TITLE=Frauen
 bildungszentrum:geo:0,0
END:VEVENT
BEGIN:VTIMEZONE
TZID:Europe/Berlin
X-LIC-LOCATION:Europe/Berlin
BEGIN:STANDARD
DTSTART:20251026T020000
TZOFFSETFROM:+0200
TZOFFSETTO:+0100
TZNAME:CET
END:STANDARD
END:VTIMEZONE
END:VCALENDAR