BEGIN:VCALENDAR
VERSION:2.0
PRODID:-//wp-events-plugin.com//7.2.3.1//EN
BEGIN:VEVENT
UID:22@frauenbildungszentrum.de
DTSTART;TZID=Europe/Berlin:20260217T180000
DTEND;TZID=Europe/Berlin:20260317T200000
DTSTAMP:20251212T110610Z
URL:https://www.frauenbildungszentrum.de/events/mit-tipps-und-tricks-zum-e
 igenen-buch-2-2
SUMMARY:Mit Tipps und Tricks zum eigenen Buch
DESCRIPTION:Starthilfe für Ihren Roman oder Ihre Geschichte\nDer Workshop 
 gibt Impulse und verhilft mit Übungen und kreativen Techniken zum eigenen
  Werk. Dieses kann sowohl autobiographisch als auch fiktiv sein\, an sich 
 selbst gerichtet\, an die Familie oder ein großes Publikum.\n\nDabei geht
  es in einer Kleingruppe von maximal vier bis sechs Teilnehmerinnen sowohl
  um Theorien und Schreiben als Handwerk\, als auch die verschiedenen Forme
 n der Veröffentlichung. Vorkenntnisse sind nicht erforderlich.\n\nAls Mat
 erial werden nur Stift und Papier benötigt.\n\n&nbsp\;\nLeitung: Andrea B
 ecker\n5 x Di.\, 17.02. – 17.03.2026\n18.00 – 20.00 Uhr\n\n&nbsp\;\n26
 1-06-006
CATEGORIES:Februar,Kreatives
LOCATION:Frauenbildungszentrum\, Schöne Aussicht 24 \, Bad Homburg\, Hesse
 n\, 61348  \, Deutschland
X-APPLE-STRUCTURED-LOCATION;VALUE=URI;X-ADDRESS=Schöne Aussicht 24 \, Bad 
 Homburg\, Hessen\, 61348  \, Deutschland;X-APPLE-RADIUS=100;X-TITLE=Frauen
 bildungszentrum:geo:0,0
END:VEVENT
BEGIN:VTIMEZONE
TZID:Europe/Berlin
X-LIC-LOCATION:Europe/Berlin
BEGIN:STANDARD
DTSTART:20251026T020000
TZOFFSETFROM:+0200
TZOFFSETTO:+0100
TZNAME:CET
END:STANDARD
END:VTIMEZONE
END:VCALENDAR