BEGIN:VCALENDAR
VERSION:2.0
PRODID:-//wp-events-plugin.com//7.2.3.1//EN
BEGIN:VEVENT
UID:54@frauenbildungszentrum.de
DTSTART;TZID=Europe/Berlin:20251105T190000
DTEND;TZID=Europe/Berlin:20251119T203000
DTSTAMP:20251007T090230Z
URL:https://www.frauenbildungszentrum.de/events/mit-ayurveda-zur-inneren-b
 alance
SUMMARY:Mit Ayurveda zur inneren Balance
DESCRIPTION:Ayurveda nennt man die Wissenschaft vom Leben. Es ist das älte
 ste indische Heilsystem\, welches auf eine gesunde Lebensführung und die 
 Vorbeugung von Krankheiten zielt.\n\nAber wie genau lebe ich gesund? Was h
 at es mit der individuellen Konstitution auf sich? Und was für eine Rolle
  spielen Ernährung\, Morgenroutine\, Tages- und Jahreszeiten...?\n\nAll d
 as und noch ein paar interessante Aspekte erfahren Sie in diesem Seminar\,
  wobei am zweiten Abend das Thema Ernährung vertiefend behandelt wird.\n\
 nIm Ayurveda gilt Nahrung als Medizin. Es zeigt Ernährungsprinzipien\, di
 e für alle Menschen (unabhängig Ihrer Konstitution oder ihres Stoffwechs
 els) gelten\, leicht umsetzbar sind und zu einem langen Leben führen. Auc
 h die Verwendung von Gewürzen/Kräutern spielt im Ayurveda eine Rolle und
  lässt die Nahrung in einem ganz neuen Licht erscheinen. So können besti
 mmte Lebensmittel dadurch bekömmlicher gemacht werden. Wir sprechen über
  die allgemeinen Regeln\, Nahrungsmittelkombinationen und das Würzen. Mit
  Tipps für zu Hause können Sie sich auf die Zubereitung der nächsten Ma
 hlzeit freuen.\n\nLeitung: Jana Renger\n\n2 x Mi.\, 05.11. – 19.11.2025\
 n19.00 – 20.30 Uhr\n\n252-07-014
CATEGORIES:Gesundheit &amp; Selbsterfahrung,November
LOCATION:Frauenbildungszentrum\, Schöne Aussicht 24 \, Bad Homburg\, Hesse
 n\, 61348  \, Deutschland
X-APPLE-STRUCTURED-LOCATION;VALUE=URI;X-ADDRESS=Schöne Aussicht 24 \, Bad 
 Homburg\, Hessen\, 61348  \, Deutschland;X-APPLE-RADIUS=100;X-TITLE=Frauen
 bildungszentrum:geo:0,0
END:VEVENT
BEGIN:VTIMEZONE
TZID:Europe/Berlin
X-LIC-LOCATION:Europe/Berlin
BEGIN:STANDARD
DTSTART:20251026T020000
TZOFFSETFROM:+0200
TZOFFSETTO:+0100
TZNAME:CET
END:STANDARD
END:VTIMEZONE
END:VCALENDAR