BEGIN:VCALENDAR
VERSION:2.0
PRODID:-//wp-events-plugin.com//7.2.3.1//EN
BEGIN:VEVENT
UID:412@frauenbildungszentrum.de
DTSTART;TZID=Europe/Berlin:20240618T183000
DTEND;TZID=Europe/Berlin:20240618T203000
DTSTAMP:20240529T094500Z
URL:https://www.frauenbildungszentrum.de/events/meine-grenzen-bewusst-und-
 effektiv-setzen-2
SUMMARY:Meine Grenzen bewusst und effektiv setzen 2 (Anmeldung nur auf Wart
 eliste möglich)
DESCRIPTION:Sobald wir Grenzen setzen\, stehen wir für unsere eigenen Bed
 ürfnisse ein. Werden unsere Grenzen verletzt\, kann dies kraftzehrend und
  verletzend sein.\nAn diesem Abend zeige ich Ihnen Techniken\, wie Sie pri
 vat und beruflich Ihre Grenzen so ziehen\, sodass diese eingehalten werden
 . Sie bekommen einen Einblick darin\, wie Sie Grenzen setzen\, ohne dass e
 s in Streit oder Eskalation endet. Grenzen können in Balance zwischen Ihn
 en und Ihrem Umfeld gesetzt werden.\nEin klares und wertschätzendes "Nein
 " kann viel Positives in Ihr Leben bringen.\n&nbsp\;\nLeitung: Daniela Her
 rmann\nDienstag\, 18. Juni 2024\n18.30 – 20.30 Uhr\n\n&nbsp\;\n\n241-07-
 019\n
CATEGORIES:Gesundheit &amp; Selbsterfahrung,Juni
LOCATION:Frauenbildungszentrum\, Schöne Aussicht 24 \, Bad Homburg\, Hesse
 n\, 61348  \, Deutschland
X-APPLE-STRUCTURED-LOCATION;VALUE=URI;X-ADDRESS=Schöne Aussicht 24 \, Bad 
 Homburg\, Hessen\, 61348  \, Deutschland;X-APPLE-RADIUS=100;X-TITLE=Frauen
 bildungszentrum:geo:0,0
END:VEVENT
BEGIN:VTIMEZONE
TZID:Europe/Berlin
X-LIC-LOCATION:Europe/Berlin
BEGIN:DAYLIGHT
DTSTART:20240331T030000
TZOFFSETFROM:+0100
TZOFFSETTO:+0200
TZNAME:CEST
END:DAYLIGHT
END:VTIMEZONE
END:VCALENDAR