BEGIN:VCALENDAR
VERSION:2.0
PRODID:-//wp-events-plugin.com//7.2.3.1//EN
BEGIN:VEVENT
UID:48@frauenbildungszentrum.de
DTSTART;TZID=Europe/Berlin:20230317T160000
DTEND;TZID=Europe/Berlin:20230324T190000
DTSTAMP:20230110T193516Z
URL:https://www.frauenbildungszentrum.de/events/mein-leben-ist-mein-kunstw
 erk
SUMMARY:Mein Leben ist mein Kunstwerk 1
DESCRIPTION:Das eigene Leben künstlerisch erfahren und darstellen und krea
 tive Ressourcen aktivieren\nEigentlich ist das eigene Leben ein selbst ges
 taltetes Kunstwerk - es trägt unverkennbar meine ganz persönliche Note\,
  zeichnet mich aus\, erzählt von mir. Und wenn ich einst aus dem Leben sc
 heiden werde\, bleibt meine ganz eigene Lebensgeschichte übrig.\n\nDieses
  Kunstwerk — unser Leben — in dem wir noch mitten drinstehen\, wollen 
 wir in einer Gruppe von drei bis fünf Frauen mit unserer Fantasie erfühl
 en\, künstlerisch-experimentell erforschen und malerisch\, zeichnerisch u
 nd gestalterisch würdigen. Wir malen unser Leben von oben schauend wie ei
 ne farbige Landschaft oder wie eine Symphonie. Wir tauchen ein in einzelne
 \, besonders schöne Lebensabschnitte und dokumentieren künstlerisch die 
 höchsten Gipfel unserer Lebensberge: das\, was uns trägt. Wir erforschen
  weiter unsere gelebte Gegenwart und projizieren zukünftige Vorhaben auf 
 die farbige Leinwand des Lebens.\n\nTeilnahmebedingungen: psychische Stabi
 lität - der Kurs ist nicht als Psychotherapie gedacht (ansonsten bitte Ei
 nzeltermine vereinbaren)\n\nLeitung: Laura Sebestyén-Kohler\n\n2 x Fr.\, 
 17.03. – 24.03.2023\n\n16.00 – 19.00 Uhr\n€ 95\,--\n\nOrt: Atelier S
 ebestyén\, Waisenhausstr. 14\, 61348 HG\n\n( Es entstehen noch € 10\,--
  Materialkosten pro Termin\, die direkt an die Referentin zu zahlen sind. 
 )\n\n231-07-011
CATEGORIES:Gesundheit &amp; Selbsterfahrung,Kreatives,März
LOCATION:Atelier Sebestyén\, Hanggasse 6\, 61276 Weilrod-Oberlauken\, 6134
 8\, Deutschland
X-APPLE-STRUCTURED-LOCATION;VALUE=URI;X-ADDRESS=Hanggasse 6\, 61276 Weilrod
 -Oberlauken\, 61348\, Deutschland;X-APPLE-RADIUS=100;X-TITLE=Atelier Sebes
 tyén:geo:0,0
END:VEVENT
BEGIN:VTIMEZONE
TZID:Europe/Berlin
X-LIC-LOCATION:Europe/Berlin
BEGIN:STANDARD
DTSTART:20221030T020000
TZOFFSETFROM:+0200
TZOFFSETTO:+0100
TZNAME:CET
END:STANDARD
END:VTIMEZONE
END:VCALENDAR