BEGIN:VCALENDAR
VERSION:2.0
PRODID:-//wp-events-plugin.com//7.2.3.1//EN
BEGIN:VEVENT
UID:18@frauenbildungszentrum.de
DTSTART;TZID=Europe/Berlin:20231014T140000
DTEND;TZID=Europe/Berlin:20231014T180000
DTSTAMP:20230714T144355Z
URL:https://www.frauenbildungszentrum.de/events/mein-gesicht
SUMMARY:Mein Gesicht 1
DESCRIPTION:Schminkkurs für Mädchen und Frauen - Kleingruppe\nDas Besonde
 re zu betonen und Kleinigkeiten zu kaschieren\, ist die Kunst des Schminke
 ns. An diesem Nachmittag lernen Sie in einer Gruppe von drei bis fünf Tei
 lnehmerinnen\, die Individualität Ihres Gesichtes zu entdecken. Dabei kö
 nnen neue Techniken erprobt oder ein ganz neuer Schminkstil ausprobiert we
 rden.\nAußerdem gibt es Anregungen\, wie die Schminkausstattung neu zusam
 mengestellt werden kann\, ohne viel Geld auszugeben. Spiegel\, Pinsel und 
 weitere Utensilien werden gestellt. Bitte bringen Sie dennoch alle vorhand
 enen Produkte mit\, damit mit der eigenen Schminke gearbeitet werden kann.
 \nLeitung: NN\n\n( Es entstehen noch € 2\,-- Materialkosten\, die direkt
  an die Referentin zu zahlen sind. )\nSamstag\, 14. Oktober 2023\n14.00 
 – 18.00 Uhr\n\n&nbsp\;\n\n232-06-009
CATEGORIES:Kinder &amp; Jugendliche,Kreatives,Oktober
LOCATION:Frauenbildungszentrum\, Schöne Aussicht 24 \, Bad Homburg\, Hesse
 n\, 61348  \, Deutschland
X-APPLE-STRUCTURED-LOCATION;VALUE=URI;X-ADDRESS=Schöne Aussicht 24 \, Bad 
 Homburg\, Hessen\, 61348  \, Deutschland;X-APPLE-RADIUS=100;X-TITLE=Frauen
 bildungszentrum:geo:0,0
END:VEVENT
BEGIN:VTIMEZONE
TZID:Europe/Berlin
X-LIC-LOCATION:Europe/Berlin
BEGIN:DAYLIGHT
DTSTART:20230326T030000
TZOFFSETFROM:+0100
TZOFFSETTO:+0200
TZNAME:CEST
END:DAYLIGHT
END:VTIMEZONE
END:VCALENDAR