BEGIN:VCALENDAR
VERSION:2.0
PRODID:-//wp-events-plugin.com//7.2.3.1//EN
BEGIN:VEVENT
UID:19@frauenbildungszentrum.de
DTSTART;TZID=Europe/Berlin:20230701T140000
DTEND;TZID=Europe/Berlin:20230701T180000
DTSTAMP:20230627T094431Z
URL:https://www.frauenbildungszentrum.de/events/mein-gesicht-2
SUMMARY:Mein Gesicht 2 (Anmeldung nur auf Warteliste möglich)
DESCRIPTION:Schminkkurs für Mädchen und Frauen - Kleingruppe\n Das Besond
 ere zu betonen und Kleinigkeiten zu kaschieren\, ist die Kunst des Schmink
 ens. An diesem Nachmittag lernen Sie in einer Gruppe von drei bis fünf Te
 ilnehmerinnen\, die Individualität Ihres Gesichtes zu entdecken. Dabei k
 önnen neue Techniken erprobt oder ein ganz neuer Schminkstil ausprobiert 
 werden.\nAußerdem gibt es Anregungen\, wie die Schminkausstattung neu zus
 ammengestellt werden kann\, ohne viel Geld auszugeben. Spiegel\, Pinsel un
 d weitere Utensilien werden gestellt. Bitte bringen Sie dennoch alle vorha
 ndenen Produkte mit\, damit mit der eigenen Schminke gearbeitet werden kan
 n.\nLeitung: Karin Detsch\n\n( Es entstehen noch € 2\,-- Materialkosten\
 , die direkt an die Referentin zu zahlen sind. )\nSamstag\, 1. Juli 2023\n
 \n14.00 – 18.00 Uhr\n\n231-06-004
CATEGORIES:Juli,Kinder &amp; Jugendliche,Kreatives
LOCATION:Frauenbildungszentrum\, Schöne Aussicht 24 \, Bad Homburg\, Hesse
 n\, 61348  \, Deutschland
X-APPLE-STRUCTURED-LOCATION;VALUE=URI;X-ADDRESS=Schöne Aussicht 24 \, Bad 
 Homburg\, Hessen\, 61348  \, Deutschland;X-APPLE-RADIUS=100;X-TITLE=Frauen
 bildungszentrum:geo:0,0
END:VEVENT
BEGIN:VTIMEZONE
TZID:Europe/Berlin
X-LIC-LOCATION:Europe/Berlin
BEGIN:DAYLIGHT
DTSTART:20230326T030000
TZOFFSETFROM:+0100
TZOFFSETTO:+0200
TZNAME:CEST
END:DAYLIGHT
END:VTIMEZONE
END:VCALENDAR