BEGIN:VCALENDAR
VERSION:2.0
PRODID:-//wp-events-plugin.com//7.2.3.1//EN
BEGIN:VEVENT
UID:623@frauenbildungszentrum.de
DTSTART;TZID=Europe/Berlin:20250123T163000
DTEND;TZID=Europe/Berlin:20250220T173000
DTSTAMP:20241211T185215Z
URL:https://www.frauenbildungszentrum.de/events/mama-fit-baby-mit
SUMMARY:Mama fit – Baby mit
DESCRIPTION:Ganzheitliches Training für Mütter\nSie haben im letzten Jahr
  ein Kind bekommen und möchten nun wieder in den moderaten Sport einsteig
 en? Sie möchten etwas für sich tun\, haben aber keine Betreuung für Ihr
  Baby?\n\nDann ist „Mama fit – Baby mit“ genau richtig. Der Kurs unt
 erstützt Mütter nach der Entbindung über die klassische Rückbildung hi
 naus und hat das Ziel den Körper nachhaltig für den Alltag zu stärken. 
 In jeder Stunde werden Koordination\, Beweglichkeit\, Beckenboden und alle
  großen Muskelgruppen ganzheitlich trainiert.\n\nIhr Baby kann gerne mitg
 ebracht werden – es kann in der Mitte spielen oder wird im Bedarfsfall e
 ingebunden. Bedingung ist\, dass die Rückbildung (weitestgehend) abgeschl
 ossen ist\, keine Rectus Diastase mehr besteht und Sie die Freigabe für S
 port von Ihrem Gynäkologen\, Physiotherapeuten o.ä. erhalten haben.\n\nB
 itte bequeme Kleidung\, eine Sportmatte\, ein Handtuch\, etwas zu Trinken 
 und\, sofern das Baby mitgebracht wird\, das Lieblingsspielzeug Ihres Kind
 es mitbringen. Bitte bei der Anmeldung das Geburtsdatum des Kindes angeben
 .\n\nLeitung: Julia Schmidt\n\n5 x Do.\, 23.01. – 20.02.2025\n16.30 – 
 17.30 Uhr\nMindestteilnehmerinnenzahl: 4\n\n251-05-401\n\n&nbsp\;
CATEGORIES:Gesundheit &amp; Selbsterfahrung,Januar,Sport &amp; Bewegung
LOCATION:Frauenbildungszentrum\, Schöne Aussicht 24 \, Bad Homburg\, Hesse
 n\, 61348  \, Deutschland
X-APPLE-STRUCTURED-LOCATION;VALUE=URI;X-ADDRESS=Schöne Aussicht 24 \, Bad 
 Homburg\, Hessen\, 61348  \, Deutschland;X-APPLE-RADIUS=100;X-TITLE=Frauen
 bildungszentrum:geo:0,0
END:VEVENT
BEGIN:VTIMEZONE
TZID:Europe/Berlin
X-LIC-LOCATION:Europe/Berlin
BEGIN:STANDARD
DTSTART:20241027T020000
TZOFFSETFROM:+0200
TZOFFSETTO:+0100
TZNAME:CET
END:STANDARD
END:VTIMEZONE
END:VCALENDAR