BEGIN:VCALENDAR
VERSION:2.0
PRODID:-//wp-events-plugin.com//7.2.3.1//EN
BEGIN:VEVENT
UID:969@frauenbildungszentrum.de
DTSTART;TZID=Europe/Berlin:20260426T100000
DTEND;TZID=Europe/Berlin:20260426T160000
DTSTAMP:20251216T190728Z
URL:https://www.frauenbildungszentrum.de/events/malen-aus-der-stille
SUMMARY:Malen aus der Stille
DESCRIPTION:Mal-Workshop – maximal 6 Teilnehmerinnen\n\nErleben Sie einen
  inspirierenden und entspannten Tag in einem idyllisch gelegenen Kunstatel
 ier inmitten hügeliger Naturlandschaft im Taunus. In diesem ganztägigen 
 Mal-Workshop widmen wir uns der Gestaltung von Bildern kleineren und mittl
 eren Formats mithilfe verschiedener malerischer Materialien und Anregungen
 \, die Sie frei wählen können. Vorkenntnisse oder vorbereitete Ideen sin
 d nicht erforderlich – ich begleite Sie mit Einfühlungsvermögen\, krea
 tiven Übungen und unkonventionellen Impulsen auf Ihrem eigenen Weg zu ihr
 em persönlichen Ausdruck.\n\nDie ruhige\, achtsame Atmosphäre des Atelie
 rs lädt dazu ein\, zur Ruhe zu kommen und die eigene Kreativität zu entd
 ecken. Ihre entstandenen Werke erinnern Sie später als bleibende Erinneru
 ng an eine besondere Auszeit.\n\nBitte bringen Sie für die Mittagspause e
 ine eigene Verpflegung mit\, da es vor Ort keine Einkaufsmöglichkeiten gi
 bt. Warme Getränke und kleine Snacks stehen zur Verfügung.\n\n&nbsp\;\n\
 n( Es entstehen Materialkosten in Höhe von € 15\,--\, die direkt an die
  Referentin zu zahlen sind. )\nLeitung: Laura Sebestyén-Kohler\nSonntag\,
  26. April 2026\n10.00 – 16.00 Uhr\nmaximal 6 Teilnehmerinnen\n261-06-01
 1
CATEGORIES:April,Kreatives
LOCATION:Atelier Sebestyén\, Hanggasse 6\, 61276 Weilrod-Oberlauken\, 6134
 8\, Deutschland
X-APPLE-STRUCTURED-LOCATION;VALUE=URI;X-ADDRESS=Hanggasse 6\, 61276 Weilrod
 -Oberlauken\, 61348\, Deutschland;X-APPLE-RADIUS=100;X-TITLE=Atelier Sebes
 tyén:geo:0,0
END:VEVENT
BEGIN:VTIMEZONE
TZID:Europe/Berlin
X-LIC-LOCATION:Europe/Berlin
BEGIN:DAYLIGHT
DTSTART:20260329T030000
TZOFFSETFROM:+0100
TZOFFSETTO:+0200
TZNAME:CEST
END:DAYLIGHT
END:VTIMEZONE
END:VCALENDAR