BEGIN:VCALENDAR
VERSION:2.0
PRODID:-//wp-events-plugin.com//7.2.3.1//EN
BEGIN:VEVENT
UID:842@frauenbildungszentrum.de
DTSTART;TZID=Europe/Berlin:20250923T160000
DTEND;TZID=Europe/Berlin:20250923T183000
DTSTAMP:20250708T120313Z
URL:https://www.frauenbildungszentrum.de/events/maerchenspaziergang-zum-ta
 gesausklang
SUMMARY:Märchenspaziergang zum Tagesausklang
DESCRIPTION:In Kooperation mit der bekannten Märchenerzählerin Michaele S
 cherenberg\nIm kleinen Häuschen in der Rathaustraße beginnen wir unseren
  romantischen gemütlichen Spaziergang hinaus zum Schloss und in den Schlo
 ssgarten.\nDabei erzählt die bekannte Erzählerin Michaele Scherenberg ga
 nz frei und faszinierend Märchen und hessische Sagen. Auch ein kleines Pi
 cknick wird es geben mit fröhlichem Austausch.\n\n&nbsp\;\nMichaele Scher
 enberg - bekannt durch ihre Auftritte und Filme im Hessischen Rundfunk - i
 st seit langem Märchenerzählerin. Sie erzählt völlig frei auf faszinie
 rende Weise.\nDienstag\, 23. September 2025\n16.00 – 18.30 Uhr\n\n&nbsp\
 ;\n252-12-101
CATEGORIES:September,Veranstaltungen
LOCATION:Omi Mümchen/Lebenskunst\, Rathausstr. 8\, Bad Homburg\, Deutschla
 nd
X-APPLE-STRUCTURED-LOCATION;VALUE=URI;X-ADDRESS=Rathausstr. 8\, Bad Homburg
 \, Deutschland;X-APPLE-RADIUS=100;X-TITLE=Omi Mümchen/Lebenskunst:geo:0,0
END:VEVENT
BEGIN:VTIMEZONE
TZID:Europe/Berlin
X-LIC-LOCATION:Europe/Berlin
BEGIN:DAYLIGHT
DTSTART:20250330T030000
TZOFFSETFROM:+0100
TZOFFSETTO:+0200
TZNAME:CEST
END:DAYLIGHT
END:VTIMEZONE
END:VCALENDAR