BEGIN:VCALENDAR
VERSION:2.0
PRODID:-//wp-events-plugin.com//7.2.3.1//EN
BEGIN:VEVENT
UID:909@frauenbildungszentrum.de
DTSTART;TZID=Europe/Berlin:20260520T170000
DTEND;TZID=Europe/Berlin:20260520T190000
DTSTAMP:20251210T105741Z
URL:https://www.frauenbildungszentrum.de/events/maerchenspaziergang-im-sch
 losspark
SUMMARY:Märchenspaziergang im Schlosspark
DESCRIPTION:In Kooperation mit der bekannten Märchenerzählerin Michaele S
 cherenberg\nBeschwingte Frühlings-Märchen werden heute im alten Schlossp
 ark von Bad Homburg erklingen. Unter Bäumen\, am See und auf den Wegen er
 zählt Märchenerzählerin Michaele Scherenberg zauberhafte Geschichten au
 s der Natur.\nWir werden einen kleinen Imbiss mitnehmen und den Abend gem
 ütlich im "Omi Mümchen /Wohlfühlhaus" ausklingen lassen. Die Kristallin
 strumente begleiten uns.\nMichaele Scherenberg - bekannt durch ihre Auftri
 tte und Filme im Hessischen Rundfunk - ist seit langem Märchenerzählerin
 . Sie erzählt völlig frei auf faszinierende Weise.\nMittwoch\, 20. Mai 2
 026\n17.00 – 19.00 Uhr\n&nbsp\;\n261-12-104
CATEGORIES:Mai,Veranstaltungen
LOCATION:Wohlfühlhaus\, Rathausstr. 8\, Bad Homburg-Altstadt\, 61348\, Deu
 tschland
X-APPLE-STRUCTURED-LOCATION;VALUE=URI;X-ADDRESS=Rathausstr. 8\, Bad Homburg
 -Altstadt\, 61348\, Deutschland;X-APPLE-RADIUS=100;X-TITLE=Wohlfühlhaus:g
 eo:0,0
END:VEVENT
BEGIN:VTIMEZONE
TZID:Europe/Berlin
X-LIC-LOCATION:Europe/Berlin
BEGIN:DAYLIGHT
DTSTART:20260329T030000
TZOFFSETFROM:+0100
TZOFFSETTO:+0200
TZNAME:CEST
END:DAYLIGHT
END:VTIMEZONE
END:VCALENDAR