BEGIN:VCALENDAR
VERSION:2.0
PRODID:-//wp-events-plugin.com//7.2.3.1//EN
BEGIN:VEVENT
UID:143@frauenbildungszentrum.de
DTSTART;TZID=Europe/Berlin:20240908T160000
DTEND;TZID=Europe/Berlin:20240908T180000
DTSTAMP:20240708T125813Z
URL:https://www.frauenbildungszentrum.de/events/maerchenhafter-spaziergang
 -im-schlosspark
SUMMARY:Märchenhafter Spaziergang im Schlosspark
DESCRIPTION:Begleitet von Märchen und Gedichten machen wir uns auf in den 
 schönen Bad Homburger Schlosspark. Zum Auftakt gibt es ein Glas Prosecco 
 oder Holunderblütensirup mit süßen „Kurschatten“.\nMichaele Scheren
 berg führt mit Leichtigkeit und Leidenschaft durch den Park an besondere 
 Plätze und lässt dort Geschichten und Gedichte spürbar werden. Ein Besu
 ch gilt auch dem Tempel der Pomona.\n\nMichaele Scherenberg\n\nSonntag\, 8
 . September 2024\n16.00 – 18.00 Uhr\n\n&nbsp\;\n242-12-101
CATEGORIES:September,Veranstaltungen
LOCATION:Wohlfühlhaus\, Rathausstr. 8\, Bad Homburg-Altstadt\, 61348\, Deu
 tschland
X-APPLE-STRUCTURED-LOCATION;VALUE=URI;X-ADDRESS=Rathausstr. 8\, Bad Homburg
 -Altstadt\, 61348\, Deutschland;X-APPLE-RADIUS=100;X-TITLE=Wohlfühlhaus:g
 eo:0,0
END:VEVENT
BEGIN:VTIMEZONE
TZID:Europe/Berlin
X-LIC-LOCATION:Europe/Berlin
BEGIN:DAYLIGHT
DTSTART:20240331T030000
TZOFFSETFROM:+0100
TZOFFSETTO:+0200
TZNAME:CEST
END:DAYLIGHT
END:VTIMEZONE
END:VCALENDAR