BEGIN:VCALENDAR
VERSION:2.0
PRODID:-//wp-events-plugin.com//7.2.3.1//EN
BEGIN:VEVENT
UID:142@frauenbildungszentrum.de
DTSTART;TZID=Europe/Berlin:20230308T190000
DTEND;TZID=Europe/Berlin:20230308T210000
DTSTAMP:20230110T193116Z
URL:https://www.frauenbildungszentrum.de/events/maerchenabende-bei-oma-mue
 mchen-1
SUMMARY:Märchenabende bei Omi Mümchen 2
DESCRIPTION:In Kooperation mit der bekannten Märchenerzählerin Michaele S
 cherenberg\nPassend zur jeweiligen Jahreszeit lädt Michaele Scherenberg z
 u einem stimmungsvollen Abend zu "Omi Mümchen“ in die Bad Homburger Alt
 stadt ein und erzählt in bekannter Weise Märchen und Geschichten. Dabei 
 wechseln sich Texte und Gedanken ab\, die gemeinsam bewegt werden.\nUnd na
 türlich gibt es auch Gelegenheit zum herzlichen Lachen. Als leckerer Imbi
 ss lockt die „weltbeste Tomatenbutter“ auf Steinofenbrot\, dazu Wein u
 nd andere Getränke.\nMichaele Scherenberg - bekannt durch ihre Auftritte 
 und Filme im Hessischen Rundfunk - ist seit langem Märchenerzählerin. Si
 e erzählt völlig frei auf faszinierende Weise.\nMittwoch\, 8. März 2023
 \n\n19.00 – 21.00 Uhr\n231-12-102
CATEGORIES:März,Veranstaltungen
LOCATION:Omi Mümchen/Lebenskunst\, Rathausstr. 8\, Bad Homburg\, Deutschla
 nd
X-APPLE-STRUCTURED-LOCATION;VALUE=URI;X-ADDRESS=Rathausstr. 8\, Bad Homburg
 \, Deutschland;X-APPLE-RADIUS=100;X-TITLE=Omi Mümchen/Lebenskunst:geo:0,0
END:VEVENT
BEGIN:VTIMEZONE
TZID:Europe/Berlin
X-LIC-LOCATION:Europe/Berlin
BEGIN:STANDARD
DTSTART:20221030T020000
TZOFFSETFROM:+0200
TZOFFSETTO:+0100
TZNAME:CET
END:STANDARD
END:VTIMEZONE
END:VCALENDAR