BEGIN:VCALENDAR
VERSION:2.0
PRODID:-//wp-events-plugin.com//7.2.3.1//EN
BEGIN:VEVENT
UID:144@frauenbildungszentrum.de
DTSTART;TZID=Europe/Berlin:20230217T190000
DTEND;TZID=Europe/Berlin:20230217T210000
DTSTAMP:20230110T181057Z
URL:https://www.frauenbildungszentrum.de/events/maerchenabende-bei-oma-mue
 mchen-1-2
SUMMARY:Märchenabende bei Omi Mümchen 1
DESCRIPTION:In Kooperation mit der bekannten Märchenerzählerin Michaele S
 cherenberg\nPassend zur jeweiligen Jahreszeit lädt Michaele Scherenberg z
 u einem stimmungsvollen Abend zu "Omi Mümchen" in die Bad Homburger Altst
 adt ein und erzählt in bekannter Weise Märchen und Geschichten. Dabei we
 chseln sich Texte und Gedanken ab\, die gemeinsam bewegt werden.\nUnd nat
 ürlich gibt es auch Gelegenheit zum herzlichen Lachen. Als leckerer Imbis
 s lockt die „weltbeste Tomatenbutter“ auf Steinofenbrot\, dazu Wein un
 d andere Getränke.\nMichaele Scherenberg - bekannt durch ihre Auftritte u
 nd Filme im Hessischen Rundfunk - ist seit langem Märchenerzählerin. Sie
  erzählt völlig frei auf faszinierende Weise.\nFreitag\, 17. Februar 202
 3\n\n19.00 – 21.00 Uhr\n231-12-101
CATEGORIES:Februar,Veranstaltungen
LOCATION:Omi Mümchen/Lebenskunst\, Rathausstr. 8\, Bad Homburg\, Deutschla
 nd
X-APPLE-STRUCTURED-LOCATION;VALUE=URI;X-ADDRESS=Rathausstr. 8\, Bad Homburg
 \, Deutschland;X-APPLE-RADIUS=100;X-TITLE=Omi Mümchen/Lebenskunst:geo:0,0
END:VEVENT
BEGIN:VTIMEZONE
TZID:Europe/Berlin
X-LIC-LOCATION:Europe/Berlin
BEGIN:STANDARD
DTSTART:20221030T020000
TZOFFSETFROM:+0200
TZOFFSETTO:+0100
TZNAME:CET
END:STANDARD
END:VTIMEZONE
END:VCALENDAR