BEGIN:VCALENDAR
VERSION:2.0
PRODID:-//wp-events-plugin.com//7.2.3.1//EN
BEGIN:VEVENT
UID:770@frauenbildungszentrum.de
DTSTART;TZID=Europe/Berlin:20250514T190000
DTEND;TZID=Europe/Berlin:20250514T210000
DTSTAMP:20250422T141908Z
URL:https://www.frauenbildungszentrum.de/events/maerchenabend-im-wohlfuehl
 haus-2
SUMMARY:MÄRCHENABEND IM WOHLFÜHLHAUS (Anmeldung nur noch auf Warteliste m
 öglich)
DESCRIPTION:In Kooperation mit der bekannten Märchenerzählerin Michaele S
 cherenberg\nIm gemütlichen Wohlfühlhaus nimmt heute das Glück Platz. Mi
 chaele Scherenberg erzählt Geschichten und Märchen über das Glücklichs
 ein. Dazu erklingen die kostbaren Kristallinstrumente aus Bergkristall.\n\
 nFür den leiblichen Genuss werden leckere Getränke und ein kleiner Imbis
 s aufgetischt - darunter natürlich die „weltbeste Tomatenbutter“.\nMi
 chaele Scherenberg - bekannt durch ihre Auftritte und Filme im Hessischen 
 Rundfunk - ist seit langem Märchenerzählerin. Sie erzählt völlig frei 
 auf faszinierende Weise.\nMittwoch\, 14. Mai 2025\n19.00 – 21.00 Uhr\n\n
 &nbsp\;\n251-12-103
CATEGORIES:Mai,Veranstaltungen
LOCATION:Wohlfühlhaus\, Rathausstr. 8\, Bad Homburg-Altstadt\, 61348\, Deu
 tschland
X-APPLE-STRUCTURED-LOCATION;VALUE=URI;X-ADDRESS=Rathausstr. 8\, Bad Homburg
 -Altstadt\, 61348\, Deutschland;X-APPLE-RADIUS=100;X-TITLE=Wohlfühlhaus:g
 eo:0,0
END:VEVENT
BEGIN:VTIMEZONE
TZID:Europe/Berlin
X-LIC-LOCATION:Europe/Berlin
BEGIN:DAYLIGHT
DTSTART:20250330T030000
TZOFFSETFROM:+0100
TZOFFSETTO:+0200
TZNAME:CEST
END:DAYLIGHT
END:VTIMEZONE
END:VCALENDAR