BEGIN:VCALENDAR
VERSION:2.0
PRODID:-//wp-events-plugin.com//7.2.3.1//EN
BEGIN:VEVENT
UID:768@frauenbildungszentrum.de
DTSTART;TZID=Europe/Berlin:20260201T190000
DTEND;TZID=Europe/Berlin:20260201T210000
DTSTAMP:20251210T104722Z
URL:https://www.frauenbildungszentrum.de/events/maerchenabend-fuer-freundi
 nnen
SUMMARY:Märchen vom kraftvollen Leben
DESCRIPTION:In Kooperation mit der bekannten Märchenerzählerin Michaele S
 cherenberg\nIn Mythen\, Märchen und Geschichten sind viele Weisheiten und
  Anregungen verborgen. Michaele Scherenberg - bekannt durch ihre Arbeit im
  Hessischen Rundfunk - ist seit langer Zeit Märchenerzählerin.\nIn Zusam
 menarbeit mit dem Frauenbildungszentrum gibt es passend zum ersten Anfang 
 des Frühlings nach Marie Lichtmess wieder einen stimmungsvollen Abend in 
 ihrem gemütlichen „Omi Mümchen/Wohlfühlhaus" in der Bad Homburger Alt
 stadt. Wie kommen wir kraftvoll durch den Winter ins nächste Frühjahr?\n
 Märchen geben uns dazu Anregungen. Dabei wechseln Texte und Gedanken\, di
 e gemeinsam bewegt werden. Als leckerer Imbiss lockt die weltbeste Tomaten
 butter auf Steinofenbrot\, dazu Wein und andere Getränke.\nMichaele Scher
 enberg - bekannt durch ihre Auftritte und Filme im Hessischen Rundfunk - i
 st seit langem Märchenerzählerin. Sie erzählt völlig frei auf faszinie
 rende Weise.\nSonntag\, 01. Februar 2026\n19.00 – 21.00 Uhr\n\n261-12-10
 1
CATEGORIES:Februar,Veranstaltungen
LOCATION:Omi Mümchen/Lebenskunst\, Rathausstr. 8\, Bad Homburg\, Deutschla
 nd
X-APPLE-STRUCTURED-LOCATION;VALUE=URI;X-ADDRESS=Rathausstr. 8\, Bad Homburg
 \, Deutschland;X-APPLE-RADIUS=100;X-TITLE=Omi Mümchen/Lebenskunst:geo:0,0
END:VEVENT
BEGIN:VTIMEZONE
TZID:Europe/Berlin
X-LIC-LOCATION:Europe/Berlin
BEGIN:STANDARD
DTSTART:20251026T020000
TZOFFSETFROM:+0200
TZOFFSETTO:+0100
TZNAME:CET
END:STANDARD
END:VTIMEZONE
END:VCALENDAR