BEGIN:VCALENDAR
VERSION:2.0
PRODID:-//wp-events-plugin.com//7.2.3.1//EN
BEGIN:VEVENT
UID:910@frauenbildungszentrum.de
DTSTART;TZID=Europe/Berlin:20260619T190000
DTEND;TZID=Europe/Berlin:20260619T210000
DTSTAMP:20251210T110143Z
URL:https://www.frauenbildungszentrum.de/events/maerchen-mit-humor
SUMMARY:Märchen zum Glücklichsein
DESCRIPTION:In Kooperation mit der bekannten Märchenerzählerin Michaele S
 cherenberg\nDas Glück ist ein zartes Geschöpf- es kommt und geht und wil
 l sich nicht auf Dauer fangen lassen. Heitere und hinreißende Geschichten
  und Märchen über das Glück erzählt heute Märchenerzählerin Michaele
  Scherenberg. Und dabei gibt es manche Anregung\, wie man sein eigenes Gl
 ück anlocken kann.\n\nIn der gemütlichen Gemeinschaft im alten Fachwerkh
 aus genießen wir wie immer die weltbeste Tomatenbutter\, mit Steinofenbro
 t und leckeren Getränken.\nMichaele Scherenberg - bekannt durch ihre Auft
 ritte und Filme im Hessischen Rundfunk - ist seit langem Märchenerzähler
 in. Sie erzählt völlig frei auf faszinierende Weise.\nFreitag\, 19. Juni
  2026\n19.00 – 21.00 Uhr\n&nbsp\;\n261-12-105
CATEGORIES:Juni,Veranstaltungen
LOCATION:Wohlfühlhaus\, Rathausstr. 8\, Bad Homburg-Altstadt\, 61348\, Deu
 tschland
X-APPLE-STRUCTURED-LOCATION;VALUE=URI;X-ADDRESS=Rathausstr. 8\, Bad Homburg
 -Altstadt\, 61348\, Deutschland;X-APPLE-RADIUS=100;X-TITLE=Wohlfühlhaus:g
 eo:0,0
END:VEVENT
BEGIN:VTIMEZONE
TZID:Europe/Berlin
X-LIC-LOCATION:Europe/Berlin
BEGIN:DAYLIGHT
DTSTART:20260329T030000
TZOFFSETFROM:+0100
TZOFFSETTO:+0200
TZNAME:CEST
END:DAYLIGHT
END:VTIMEZONE
END:VCALENDAR