BEGIN:VCALENDAR
VERSION:2.0
PRODID:-//wp-events-plugin.com//7.2.3.1//EN
BEGIN:VEVENT
UID:164@frauenbildungszentrum.de
DTSTART;TZID=Europe/Berlin:20230511T180000
DTEND;TZID=Europe/Berlin:20230511T203000
DTSTAMP:20230110T200313Z
URL:https://www.frauenbildungszentrum.de/events/machen-sie-sich-frei-von-b
 elastenden-glaubenssaetzen
SUMMARY:Machen Sie sich frei von belastenden Glaubenssätzen
DESCRIPTION:„Du darfst keine Fehler machen!“\, „Das kannst Du sowieso
  nicht!“\, „Das bist Du nicht wert!“…\nKommen Ihnen solche Bedenke
 n bekannt vor? Jeder von uns hat Glaubenssätze im Gepäck - stärkende un
 d einschränkende. Oft entstehen sie in der Kindheit oder durch Erfahrunge
 n und sind vom privaten und beruflichen Umfeld geprägt. Beschränkende Gl
 aubenssätze beeinträchtigen unser Leben. Besonders laut und hinderlich k
 önnen sie in angespannten Situationen werden. Das Gute ist\, dass uns Gla
 ubenssätze nicht nur lenken können\, sondern wir sie in gleicher Weise b
 eeinflussen.\nIm Workshop spüren Sie zunächst Ihre Glaubenssätze auf un
 d machen sich diese bewusst. Beim anschließenden Faktencheck geht es daru
 m\, ihnen auf den Zahn zu fühlen: Sind sie wirklich wahr\, in welchen Sit
 uationen kommen sie auf und welche Gefühle sind damit verbunden? Im letzt
 en Schritt erarbeiten Sie Formulierungen\, um die Beschränkungen aufzulö
 sen und diese in positive\, stärkende Gedanken umzuwandeln und sie künft
 ig im Alltag hilfreich zu verankern.\nLeitung: Dr. Melanie Damm\nDonnersta
 g\, 11. Mai 2023\n18.00 – 20.30 Uhr\n231-07-010
CATEGORIES:Gesundheit &amp; Selbsterfahrung,Mai
LOCATION:Frauenbildungszentrum\, Schöne Aussicht 24 \, Bad Homburg\, Hesse
 n\, 61348  \, Deutschland
X-APPLE-STRUCTURED-LOCATION;VALUE=URI;X-ADDRESS=Schöne Aussicht 24 \, Bad 
 Homburg\, Hessen\, 61348  \, Deutschland;X-APPLE-RADIUS=100;X-TITLE=Frauen
 bildungszentrum:geo:0,0
END:VEVENT
BEGIN:VTIMEZONE
TZID:Europe/Berlin
X-LIC-LOCATION:Europe/Berlin
BEGIN:DAYLIGHT
DTSTART:20230326T030000
TZOFFSETFROM:+0100
TZOFFSETTO:+0200
TZNAME:CEST
END:DAYLIGHT
END:VTIMEZONE
END:VCALENDAR