BEGIN:VCALENDAR
VERSION:2.0
PRODID:-//wp-events-plugin.com//7.2.3.1//EN
BEGIN:VEVENT
UID:629@frauenbildungszentrum.de
DTSTART;TZID=Europe/Berlin:20251103T190000
DTEND;TZID=Europe/Berlin:20251103T210000
DTSTAMP:20250704T120206Z
URL:https://www.frauenbildungszentrum.de/events/longevity
SUMMARY:LONGEVITY
DESCRIPTION:Der Wunsch nach einem langen und gesunden Leben\nFast jeder Men
 sch strebt ein besseres Älterwerden an.\nAn diesem Abend erhalten Sie Ins
 pirationen\, wie Sie durch Änderungen Ihres Lebensstils und Ihres Verhalt
 ens möglichst lange gesund bleiben und im Alter aktiv und selbstbestimmt 
 leben können.\nAnhand verschiedener „Stellschrauben“\, wie Ernährung
 \, Bewegung\, Medizin\, Regeneration und Emotionalität kann „Frau“ se
 hr viel für sich selbst erreichen.\n\n&nbsp\;\nLeitung: Freia Meike Stein
 häuser\nMontag\, 3. November 2025\n19.00 – 21.00 Uhr\n252-07-006
CATEGORIES:Gesundheit &amp; Selbsterfahrung,November
LOCATION:Frauenbildungszentrum\, Schöne Aussicht 24 \, Bad Homburg\, Hesse
 n\, 61348  \, Deutschland
X-APPLE-STRUCTURED-LOCATION;VALUE=URI;X-ADDRESS=Schöne Aussicht 24 \, Bad 
 Homburg\, Hessen\, 61348  \, Deutschland;X-APPLE-RADIUS=100;X-TITLE=Frauen
 bildungszentrum:geo:0,0
END:VEVENT
BEGIN:VTIMEZONE
TZID:Europe/Berlin
X-LIC-LOCATION:Europe/Berlin
BEGIN:STANDARD
DTSTART:20251026T020000
TZOFFSETFROM:+0200
TZOFFSETTO:+0100
TZNAME:CET
END:STANDARD
END:VTIMEZONE
END:VCALENDAR