BEGIN:VCALENDAR
VERSION:2.0
PRODID:-//wp-events-plugin.com//7.2.3.1//EN
BEGIN:VEVENT
UID:819@frauenbildungszentrum.de
DTSTART;TZID=Europe/Berlin:20260423T180000
DTEND;TZID=Europe/Berlin:20260423T210000
DTSTAMP:20251216T173035Z
URL:https://www.frauenbildungszentrum.de/events/linkedin-fuer-den-jobwechs
 el-2
SUMMARY:LinkedIn für den Jobwechsel 2
DESCRIPTION:Entfachen Sie Ihre Karriere\nMöchten Sie beruflich durchstarte
 n\, neue Chancen ergreifen und Ihre Traumstelle finden? Dann seien Sie dab
 ei\, wenn wir gemeinsam LinkedIn als Ihr persönliches Karrieresprungbrett
  entdecken!\n\nIn diesem Seminar lernen Sie:\n\n 	Wie Sie Ihr LinkedIn-Pro
 fil anlegen bzw. optimieren und es für Recruiter unwiderstehlich machen\n
  	Die besten Strategien\, um sich mit Branchenexperten zu vernetzen\n 	Tri
 cks\, wie Sie Ihre Sichtbarkeit und Chancen auf dem Arbeitsmarkt maximiere
 n\n 	Insider-Tipps\, um Jobangebote zu finden\, die perfekt zu Ihnen passe
 n.\n\nEgal\, ob Sie aktiv nach einer neuen Herausforderung suchen oder ein
 fach Ihre beruflichen Möglichkeiten ausbauen möchten – dieses Seminar 
 ist Ihr Schlüssel\, um LinkedIn professionell und effektiv zu nutzen.\n\n
 Bringen Sie frischen Wind in Ihre Karriere und lernen Sie\, wie Sie die di
 gitale Welt zu Ihrem Vorteil nutzen können.\n\nWer bereits ein LinkedIn-P
 rofil hat\, bringt gerne sein Tablet\, Laptop etc. mit.\n\n&nbsp\;\nLeitun
 g: Angelika Schaack\nDonnerstag\, 23. April 2026\n18.00 – 21.00 Uhr\nMin
 destteilnehmerinnenzahl: 3\nDieser Kurs wird für Frauen und Männer angeb
 oten.\n&nbsp\;\n\n261-09-033
CATEGORIES:April,Beruf &amp; Finanzen
LOCATION:Frauenbildungszentrum\, Schöne Aussicht 24 \, Bad Homburg\, Hesse
 n\, 61348  \, Deutschland
X-APPLE-STRUCTURED-LOCATION;VALUE=URI;X-ADDRESS=Schöne Aussicht 24 \, Bad 
 Homburg\, Hessen\, 61348  \, Deutschland;X-APPLE-RADIUS=100;X-TITLE=Frauen
 bildungszentrum:geo:0,0
END:VEVENT
BEGIN:VTIMEZONE
TZID:Europe/Berlin
X-LIC-LOCATION:Europe/Berlin
BEGIN:DAYLIGHT
DTSTART:20260329T030000
TZOFFSETFROM:+0100
TZOFFSETTO:+0200
TZNAME:CEST
END:DAYLIGHT
END:VTIMEZONE
END:VCALENDAR