BEGIN:VCALENDAR
VERSION:2.0
PRODID:-//wp-events-plugin.com//7.2.3.1//EN
BEGIN:VEVENT
UID:565@frauenbildungszentrum.de
DTSTART;TZID=Europe/Berlin:20260227T180000
DTEND;TZID=Europe/Berlin:20260227T210000
DTSTAMP:20260209T152727Z
URL:https://www.frauenbildungszentrum.de/events/kuenstliche-intelligenz-im
 -alltag
SUMMARY:Künstliche Intelligenz im Alltag
DESCRIPTION:Wie können KI-Tools sinnvoll genutzt werden\nVoraussetzungen: 
 keine\n\nIn diesem Workshop lernen Sie Grundlagen und Anwendungsmöglichke
 iten der wichtigsten KI-Tools kennen.\nSie erhalten einen praxisnahen Übe
 rblick über die Funktionsweise aktueller KI-Tools und erfahren\, wie Sie 
 diese im Handumdrehen effizient und kreativ für Alltag und Beruf nutzen k
 önnen.\n\nBegeben Sie sich auf eine spannende Entdeckungsreise in die dig
 itale Welt von heute.\n\n&nbsp\;\nLeitung: Stefanie Fischer\nFreitag\, 27.
  Februar 2026\n18.00 – 21.00 Uhr\nMindestteilnehmerinnenzahl: 4\n\n&nbsp
 \;\n\n&nbsp\;\n\n261-01-301\n\n 
CATEGORIES:Computer Spezial,Computerkurse,Februar
LOCATION:Frauenbildungszentrum\, Schöne Aussicht 24 \, Bad Homburg\, Hesse
 n\, 61348  \, Deutschland
X-APPLE-STRUCTURED-LOCATION;VALUE=URI;X-ADDRESS=Schöne Aussicht 24 \, Bad 
 Homburg\, Hessen\, 61348  \, Deutschland;X-APPLE-RADIUS=100;X-TITLE=Frauen
 bildungszentrum:geo:0,0
END:VEVENT
BEGIN:VTIMEZONE
TZID:Europe/Berlin
X-LIC-LOCATION:Europe/Berlin
BEGIN:STANDARD
DTSTART:20251026T020000
TZOFFSETFROM:+0200
TZOFFSETTO:+0100
TZNAME:CET
END:STANDARD
END:VTIMEZONE
END:VCALENDAR