BEGIN:VCALENDAR
VERSION:2.0
PRODID:-//wp-events-plugin.com//7.2.3.1//EN
BEGIN:VEVENT
UID:798@frauenbildungszentrum.de
DTSTART;TZID=Europe/Berlin:20260424T180000
DTEND;TZID=Europe/Berlin:20260424T210000
DTSTAMP:20260409T081335Z
URL:https://www.frauenbildungszentrum.de/events/kuenstliche-intelligenz-im
 -alltag-2
SUMMARY:Künstliche Intelligenz im Alltag 2
DESCRIPTION:Wie können KI-Tools sinnvoll genutzt werden\nVoraussetzungen: 
 keine\n\nIn diesem Workshop lernen Sie Grundlagen und Anwendungsmöglichke
 iten der wichtigsten KI-Tools kennen.\nSie erhalten einen praxisnahen Übe
 rblick über die Funktionsweise aktueller KI-Tools und erfahren\, wie Sie 
 diese im Handumdrehen effizient und kreativ für Alltag und Beruf nutzen k
 önnen.\n\nBegeben Sie sich auf eine spannende Entdeckungsreise in die dig
 itale Welt von heute.\n\n&nbsp\;\nLeitung: Stefanie Fischer\nFreitag\, 24.
  April 2026\n18.00 – 21.00 Uhr\nMindestteilnehmerinnenzahl: 4\n\n&nbsp\;
 \n\n&nbsp\;\n\n261-01-302\n\n 
CATEGORIES:April,Computer Spezial,Computerkurse
LOCATION:Frauenbildungszentrum\, Schöne Aussicht 24 \, Bad Homburg\, Hesse
 n\, 61348  \, Deutschland
X-APPLE-STRUCTURED-LOCATION;VALUE=URI;X-ADDRESS=Schöne Aussicht 24 \, Bad 
 Homburg\, Hessen\, 61348  \, Deutschland;X-APPLE-RADIUS=100;X-TITLE=Frauen
 bildungszentrum:geo:0,0
END:VEVENT
BEGIN:VTIMEZONE
TZID:Europe/Berlin
X-LIC-LOCATION:Europe/Berlin
BEGIN:DAYLIGHT
DTSTART:20260329T030000
TZOFFSETFROM:+0100
TZOFFSETTO:+0200
TZNAME:CEST
END:DAYLIGHT
END:VTIMEZONE
END:VCALENDAR