BEGIN:VCALENDAR
VERSION:2.0
PRODID:-//wp-events-plugin.com//7.2.3.1//EN
BEGIN:VEVENT
UID:95@frauenbildungszentrum.de
DTSTART;TZID=Europe/Berlin:20230304T140000
DTEND;TZID=Europe/Berlin:20230304T180000
DTSTAMP:20230110T181628Z
URL:https://www.frauenbildungszentrum.de/events/kreistanz
SUMMARY:Kreistanzworkshop
DESCRIPTION:Wenn du tanzt\, schreibt dein Körper auf die Erde\, was deine 
 Seele sagen will (K. Kavafis)\nTanzend bewegen wir uns beschwingt oder ruh
 ig\, schreitend oder stampfend im Kreis um eine gemeinsame Mitte. Wir krei
 sen\, schlängeln durch den Raum\, tanzen eine Spirale - alles Formen aus 
 der Natur und alte Symbole. Wir tanzen einfache Kreis- und Reihentänze vo
 rwiegend aus Griechenland und den Balkanländern aber auch aus anderen Kul
 turen. Die Wirkung der Tänze entfaltet sich\, durch die sich immer wieder
 holenden einfachen Schrittfolgen\, deshalb ist Tanzerfahrung nicht notwend
 ig.\nBitte bequeme Kleidung\, tanzgeeignete Schuhe\, eine Decke/Kissen zum
  Sitzen\, genügend Getränke und evtl. etwas zum Essen mitbringen.\nLeitu
 ng: Ulla Stier\nSamstag\, 4. März 2023\n\n14.00 – 18.00 Uhr\n\nMindestt
 eilnehmerinnenzahl: 7\n\nIn der Kursgebühr ist GEMA enthalten.\n231-04-12
 1
CATEGORIES:März,Musik &amp; Tanz
LOCATION:Bürgerhaus Kirdorf (Musikzimmer)\, Stedter Weg 40\, Bad Homburg\,
  Deutschland
X-APPLE-STRUCTURED-LOCATION;VALUE=URI;X-ADDRESS=Stedter Weg 40\, Bad Hombur
 g\, Deutschland;X-APPLE-RADIUS=100;X-TITLE=Bürgerhaus Kirdorf (Musikzimme
 r):geo:0,0
END:VEVENT
BEGIN:VTIMEZONE
TZID:Europe/Berlin
X-LIC-LOCATION:Europe/Berlin
BEGIN:STANDARD
DTSTART:20221030T020000
TZOFFSETFROM:+0200
TZOFFSETTO:+0100
TZNAME:CET
END:STANDARD
END:VTIMEZONE
END:VCALENDAR