BEGIN:VCALENDAR
VERSION:2.0
PRODID:-//wp-events-plugin.com//7.2.3.1//EN
BEGIN:VEVENT
UID:84@frauenbildungszentrum.de
DTSTART;TZID=Europe/Berlin:20250206T190000
DTEND;TZID=Europe/Berlin:20250327T203000
DTSTAMP:20241210T144905Z
URL:https://www.frauenbildungszentrum.de/events/kreatives-tanzen
SUMMARY:Kreatives Tanzen
DESCRIPTION:Frei bewegen möcht` ich mich!\nVon Musik inspiriert können Si
 e sich im Tanz neu entdecken: kraftvoll\, spielerisch und mit Freude\, abe
 r auch achtsam\, zart und leicht – schweben und geerdet sein. Einmal dem
  Wunsch folgen\, den Kopf abzuschalten und den inneren Impulsen zu folgen.
 \nDieser Kurs bietet einen Freiraum\n\n\n 	sich zu entfalten und zu spüre
 n\n 	loszulassen und zu entspannen\n 	den eigenen Ausdruck in der Bewegung
  zu finden\n\nUnd dann dabei gemeinsam mit anderen Frauen mal so richtig i
 n Schwung zu kommen. Bitte lockere Kleidung und leichte Schuhe mitbringen.
 \nLeitung: Brigitte Weth\n\n8 x Do.\, 06.02. – 27.03.2025\n19.00 – 20.
 30 Uhr\nMindestteilnehmerinnenzahl: 7\n\n&nbsp\;\n\nIn der Kursgebühr ist
  GEMA enthalten.\n\n&nbsp\;\n251-04-101
CATEGORIES:Februar,Gesundheit &amp; Selbsterfahrung,Musik &amp; Tanz,Sport
 &amp; Bewegung
LOCATION:Erlenbachhalle\, Josef-Baumann Str. 15\,\, Bad Homburg\,\, 61352\,
  Deutschland
X-APPLE-STRUCTURED-LOCATION;VALUE=URI;X-ADDRESS=Josef-Baumann Str. 15\,\, B
 ad Homburg\,\, 61352\, Deutschland;X-APPLE-RADIUS=100;X-TITLE=Erlenbachhal
 le:geo:0,0
END:VEVENT
BEGIN:VTIMEZONE
TZID:Europe/Berlin
X-LIC-LOCATION:Europe/Berlin
BEGIN:STANDARD
DTSTART:20241027T020000
TZOFFSETFROM:+0200
TZOFFSETTO:+0100
TZNAME:CET
END:STANDARD
END:VTIMEZONE
END:VCALENDAR