BEGIN:VCALENDAR
VERSION:2.0
PRODID:-//wp-events-plugin.com//7.2.3.1//EN
BEGIN:VEVENT
UID:153@frauenbildungszentrum.de
DTSTART;TZID=Europe/Berlin:20240411T190000
DTEND;TZID=Europe/Berlin:20240523T203000
DTSTAMP:20231208T145051Z
URL:https://www.frauenbildungszentrum.de/events/kreatives-tanzen-4
SUMMARY:Kreatives Tanzen 2
DESCRIPTION:Frei bewegen möcht` ich mich!\nVon Musik inspiriert können Si
 e sich im Tanz neu entdecken: kraftvoll\, spielerisch und mit Freude\, abe
 r auch achtsam\, zart und leicht – schweben und geerdet sein. Einmal dem
  Wunsch folgen\, den Kopf abzuschalten und den inneren Impulsen zu folgen.
 \nDieser Kurs bietet einen Freiraum\n\n\n 	sich zu entfalten und zu spüre
 n\n 	loszulassen und zu entspannen\n 	den eigenen Ausdruck in der Bewegung
  zu finden\n\nUnd dann dabei gemeinsam mit anderen Frauen mal so richtig i
 n Schwung zu kommen. Bitte lockere Kleidung und leichte Schuhe mitbringen.
 \nLeitung: Brigitte Weth\n\n5 x Do.\, 11.04. – 23.05.2024\n19.00 – 20.
 30 Uhr\nDer Kurs findet auch in den Osterferien statt\, aber nicht am 02.0
 5. + 09.05.2024\nMindestteilnehmerinnenzahl: 7\n\n&nbsp\;\n\nIn der Kursge
 bühr ist GEMA enthalten.\n\n(Ein Schnupperabend sowie ein späterer Einst
 ieg sind jederzeit möglich.)\n241-04-102
CATEGORIES:April,Gesundheit &amp; Selbsterfahrung,Musik &amp; Tanz,Sport
 &amp; Bewegung
LOCATION:Erlenbachhalle\, Josef-Baumann Str. 15\,\, Bad Homburg\,\, 61352\,
  Deutschland
X-APPLE-STRUCTURED-LOCATION;VALUE=URI;X-ADDRESS=Josef-Baumann Str. 15\,\, B
 ad Homburg\,\, 61352\, Deutschland;X-APPLE-RADIUS=100;X-TITLE=Erlenbachhal
 le:geo:0,0
END:VEVENT
BEGIN:VTIMEZONE
TZID:Europe/Berlin
X-LIC-LOCATION:Europe/Berlin
BEGIN:DAYLIGHT
DTSTART:20240331T030000
TZOFFSETFROM:+0100
TZOFFSETTO:+0200
TZNAME:CEST
END:DAYLIGHT
END:VTIMEZONE
END:VCALENDAR