BEGIN:VCALENDAR
VERSION:2.0
PRODID:-//wp-events-plugin.com//7.2.3.1//EN
BEGIN:VEVENT
UID:59@frauenbildungszentrum.de
DTSTART;TZID=Europe/Berlin:20241104T180000
DTEND;TZID=Europe/Berlin:20241202T193000
DTSTAMP:20240628T145956Z
URL:https://www.frauenbildungszentrum.de/events/kraftquellen-wege-in-die-e
 ntspannung
SUMMARY:Kraftquellen – Wege in die Entspannung
DESCRIPTION:Spannungen lösen\, Stress abbauen\, Energie tanken\nBeruf\, Fa
 milie\, alltägliche Anforderungen\, die Informationsflut\, ständige Erre
 ichbarkeit\, da fällt es oft schwer zur Ruhe zu kommen.\nFür unsere geis
 tige\, seelische und körperliche Gesundheit ist es aber unerlässlich auc
 h mal\n\n\n 	Innezuhalten\n 	Stress und Anspannung loszulassen\n 	die eige
 ne Befindlichkeit liebevoll wahrzunehmen und\n 	neue Kräfte zu entwickeln
 .\n\nDieser Kurs bietet Ihnen die Möglichkeit verschiedene Entspannungsme
 thoden und deren wohltuende Wirkung kennen zu lernen und zu erleben. Phant
 asiereisen\, Meditationen\, Autogenes Training\, Atem- und Körperübungen
  bilden jeweils den „roten Faden“ einer Kursstunde und werden durch Ac
 htsamkeits- und Wahrnehmungsübungen ergänzt. Sie stärken Ihr inneres Gl
 eichgewicht und schöpfen Kraft für die Anforderungen des Alltags. Bitte 
 tragen Sie bequeme Kleidung und bringen Sie eine Decke\, warme Socken und 
 eine Iso-Matte mit.\nLeitung: Claudia Schmidt\n5 x Mo.\, 04.11. – 02.12.
 2024\n18.00 – 19.30 Uhr\n\n&nbsp\;\n\n242-07-026\n\n \n
CATEGORIES:Gesundheit &amp; Selbsterfahrung,November
LOCATION:Frauenbildungszentrum\, Schöne Aussicht 24 \, Bad Homburg\, Hesse
 n\, 61348  \, Deutschland
X-APPLE-STRUCTURED-LOCATION;VALUE=URI;X-ADDRESS=Schöne Aussicht 24 \, Bad 
 Homburg\, Hessen\, 61348  \, Deutschland;X-APPLE-RADIUS=100;X-TITLE=Frauen
 bildungszentrum:geo:0,0
END:VEVENT
BEGIN:VTIMEZONE
TZID:Europe/Berlin
X-LIC-LOCATION:Europe/Berlin
BEGIN:STANDARD
DTSTART:20241027T020000
TZOFFSETFROM:+0200
TZOFFSETTO:+0100
TZNAME:CET
END:STANDARD
END:VTIMEZONE
END:VCALENDAR