BEGIN:VCALENDAR
VERSION:2.0
PRODID:-//wp-events-plugin.com//7.2.3.1//EN
BEGIN:VEVENT
UID:75@frauenbildungszentrum.de
DTSTART;TZID=Europe/Berlin:20230325T090000
DTEND;TZID=Europe/Berlin:20230325T120000
DTSTAMP:20230110T194011Z
URL:https://www.frauenbildungszentrum.de/events/kraeuterwerkstatt-fuer-gro
 ss-muetter-und-kinder-ab-7-jahren
SUMMARY:Kräuterwerkstatt  für (Groß-)Mütter und Kinder ab 7 Jahren
DESCRIPTION:Leckere Kräuterprodukte selbst herstellen\nDie Neugierde an ar
 omatischen Pflanzen und Kräutern und was man daraus machen kann\, ist ber
 eits im Kindesalter geweckt. Einfache Rezepte für Kräutersalz und Blüte
 nzucker können auch schon von jüngeren Kindern mit Unterstützung eines 
 Eltern- oder Großelternteils umgesetzt werden.\nGenau das und noch viel m
 ehr\, wollen wir heute machen. Es macht viel Spaß\, sein eigenes\, indivi
 duelles Familienprodukt zu erfinden und dabei die unterschiedlichen äther
 ischen Öle zu schnuppern. Mit viel Stolz werden alle aus der Kräuterwerk
 statt ihre eigenen Produkte mit nach Hause nehmen.\nBitte kleine\, saubere
  lebensmittelgeeignete Gläschen\, Döschen und Flaschen mitbringen\, sowi
 e Holzbrettchen und Messer.\nLeitung: Juliane Bergmann\n\n( Es entstehen n
 och Materialkosten in Höhe von € 7\,--\, die direkt an die Referentin z
 u zahlen sind.)\nSamstag\, 25. März 2023\n09.00 – 12.00 Uhr\n€ 31\,--
  pro Paar\n231-10-101
CATEGORIES:Kinder &amp; Jugendliche,März
LOCATION:Frauenbildungszentrum\, Schöne Aussicht 24 \, Bad Homburg\, Hesse
 n\, 61348  \, Deutschland
X-APPLE-STRUCTURED-LOCATION;VALUE=URI;X-ADDRESS=Schöne Aussicht 24 \, Bad 
 Homburg\, Hessen\, 61348  \, Deutschland;X-APPLE-RADIUS=100;X-TITLE=Frauen
 bildungszentrum:geo:0,0
END:VEVENT
BEGIN:VTIMEZONE
TZID:Europe/Berlin
X-LIC-LOCATION:Europe/Berlin
BEGIN:STANDARD
DTSTART:20221030T020000
TZOFFSETFROM:+0200
TZOFFSETTO:+0100
TZNAME:CET
END:STANDARD
END:VTIMEZONE
END:VCALENDAR