BEGIN:VCALENDAR
VERSION:2.0
PRODID:-//wp-events-plugin.com//7.2.3.1//EN
BEGIN:VEVENT
UID:166@frauenbildungszentrum.de
DTSTART;TZID=Europe/Berlin:20260416T170000
DTEND;TZID=Europe/Berlin:20260416T190000
DTSTAMP:20251216T191908Z
URL:https://www.frauenbildungszentrum.de/events/kraeuterspaziergang
SUMMARY:Kräuterspaziergang
DESCRIPTION:Wildkräuter für Küche und Hausapotheke\nZahlreiche Wildkräu
 ter wachsen auf den Wiesen im Kirdorfer Feld – Wiesenlabkraut\, Gundelre
 be\, Spitzwegerich und Löwenzahn\, um nur einige zu nennen. Die meisten d
 avon können in der Küche oder für die Hausapotheke verwendet werden. Ma
 nche haben immunstärkende Eigenschaften\, andere sind – richtig zuberei
 tet – kulinarische Delikatessen.\nAuf unserem Spaziergang besuchen wir d
 ie Pflanzen an ihren natürlichen Standorten. Die Teilnehmerinnen erfahren
 \, wie sie die Kräuter sicher erkennen und bestimmen können\, welche sic
 h zum Verarbeiten eignen und welche bei gesundheitlichen Beschwerden helfe
 n.\nLeitung: Juliane Bergmann\nDieser Kurs wird für Frauen und Männer an
 geboten.\nDonnerstag\, 16. April 2026\n17.00 – 19.00 Uhr\n\n261-07-020\n
  
CATEGORIES:April,Gesundheit &amp; Selbsterfahrung
LOCATION:Kirdorfer Feld\, Usinger Weg 90\, Bad Homburg\, Deutschland
X-APPLE-STRUCTURED-LOCATION;VALUE=URI;X-ADDRESS=Usinger Weg 90\, Bad Hombur
 g\, Deutschland;X-APPLE-RADIUS=100;X-TITLE=Kirdorfer Feld:geo:0,0
END:VEVENT
BEGIN:VTIMEZONE
TZID:Europe/Berlin
X-LIC-LOCATION:Europe/Berlin
BEGIN:DAYLIGHT
DTSTART:20260329T030000
TZOFFSETFROM:+0100
TZOFFSETTO:+0200
TZNAME:CEST
END:DAYLIGHT
END:VTIMEZONE
END:VCALENDAR